BEGIN:VCALENDAR
VERSION:2.0
PRODID:-//Национална опера и балет - ECPv4.0.7//NONSGML v1.0//EN
CALSCALE:GREGORIAN
METHOD:PUBLISH
X-WR-CALNAME:Национална опера и балет
X-ORIGINAL-URL:https://operabalet.mk
X-WR-CALDESC:Events for Национална опера и балет
BEGIN:VEVENT
DTSTART;TZID="Europe/Skopje":20221221T200000
DTEND;TZID="Europe/Skopje":20221221T223000
DTSTAMP:20260423T172842
CREATED:20221209T110017
LAST-MODIFIED:20221214T105323
UID:3647-1671652800-1671661800@operabalet.mk
SUMMARY:ЖИЗЕЛ - АДОЛФ АДАМ (БЕЛГРАДСКИ НАРОДЕН ТЕАТАР\, 21.12.2022)
DESCRIPTION:\nГОСТУВАЊЕ ВО СКОПЈЕ\, СРЕДА\, 21 ДЕКЕМВРИ 2022\n БЕЛГРАДСКИ НАРОДЕН ТЕАТАР БАЛЕТ \nПремиера\, 14 април 1957 година\nОбновена кореографска верзија\n27 јуни 1991 година\nАДОЛФ АДАМ\n ЖИЗЕЛ\nРомантичен балет во два чина\nЛибрето на Т. ГОТЈЕ\, В. СЕН ЖОРЖ\nКореографија на ЛЕОНИД ЛАВРОВСКИ според Ж. Корали\, Ж. Перот\, М. Петипа\nДиригент: Иван Еминовиќ\nКореографска реализација КАТАРИНА ОБРАДОВИЌ\nКостимографија БОЖАНА ЈОВАНОВИЌ\nСценографија БОРИС МАКСИМОВИЌ\nКонцерт мајстор: Климент Тодороски\nНастапуваат:\nЖизел БОЈАНА ЖЕГАРАЦ КНЕЖЕВИЌ\nАлберт ХОЗЕ ИГЛЕСИЈАС\nХиларион\, шумарот НИКОЛА БЈАНКО\n\nI чин\nВИЛФРЕД Милош Живановиќ\nБАТИЛДА\, ЌЕРКА НА ВОЈВОДАТА Ивана Веселиновиќ\nВОЈВОДАТА ОД КУРЛАНД Горан Станиќ\nБЕРТА\, МАЈКАТА НА ЖИЗЕЛ Ива Игњатовиќ\nПА ДЕ ДЕ Теодора Спасиќ\, Егор Бурба\nПРИЈАТЕЛКИ НА ЖИЗЕЛ Душанка Ѓорѓевиќ\, Миља Ѓуриќ\, Дејана Златановски\,\nМилена Јанковиќ\, Соња Милованов\, Силвија Џуња Ќириќ\,\nВАЛС Наталија Аксентијевиќ\, Љиљана Велимиров\, Валентина Грујичиќ\, Оља Ѓукиќ\, Валентина Ѓурашин\, Милена Ивиќ\, Милена Јанковиќ\, Кристина Ковачевиќ\, Јована Матиќ\, Милена Огризовиќ\, Мина Радоја\, Тијана Шебез\,\nСЕЛСКА ИГРА Наталија Аксентијевиќ\, Маргарета Бата\, Валентина Грујиќиќ\, Милена Ивиќ\,\nХелена Јовановиќ\, Кристина Ковачевиќ\, Милена Огризовиќ\, Анастасија Сихова\nЖељко Гроздановиќ\, Душан Милосављевиќ\, Лука Пејчиновиќ\, Чедомир Радоњиќ\,\nМихајло Стефановиќ\, Емануеле Фриго\, Алекса Чолиќ\, Иван Ќосиќ\nСвита на војводата на КУРЛАНД: Кристина Николовски\, Маја Остојин\, Јелена Момиров\,\nБожин Павловски\, Владимир Панајотовиќ\, Немања Сувачаревиќ\nII чин\nМИРТА\, КРАЛИЦА НА ВИЛИСИТЕ Ада Распор\nДВЕ ВИЛИСИ Љиљана Велимиров\, Тијана Шебез\nВИЛИСИ Наталија Аксентијевиќ\, Валентина Грујиќиќ\, Душанка Ѓорѓевиќ\, Оља Ѓукиќ\, Валентина Ѓурашин\, Дејана Златановски\, Милена Ивиќ\, Ива Игњатовиќ\, Милена Јанковиќ\, Кристина Ковачевиќ\, Јована Матиќ\, Марина Милетиќ\, Соња Милованов\, Јелена Недиќ\, Милена Огризовиќ\, Мина Радоја\, Ивана Савиќ Јаќиќ\, Силвија Џуња Чириќ\nНастапува оркестарот на Национална опера и балет\nУметнички директор на Балетот АНА ПАВЛОВИЌ\nИзвршен директор на Балетот СМИЉАНА СТОКИЌ\nБалетски продуценти БРАНКИЦА КНЕЖЕВИЌ\, ГОЈКО ДАВИДОВИЌ\nБалетски репетитори АНА ПАВЛОВИЌ\, ТАМАРА ИВАНОВИЌ\, ДАЛИЈА ИМАНИЌ\, МАРИЈА БАЈЧЕТИЌ\,\nМАРИЈА ВЈЕШТИЦА\, ПАША МУСИЌ\nОбнова на костимите КАТАРИНА ГРЧИЌ НИКОЛИЌ\, асистентка ИВАНА МЛАДЕНОВИЌ\nСветло мајстор МИОДРАГ МИЛИВОЈЕВИЌ | Дизајн на маски МАРКО ДУКИЌ\nСценски мајстор НЕВЕНКО РАДАНОВИЌ | Инспициент ДЕЈАН ФИЛИПОВИЌ\nСинопсис\nБалетот Жизел е романтичен балет во два чина. Од неговата праизведба во Париз 1841 година па до денес\, тоа е еден од ретките балети кој има непрекината традиција на изведување.\nПрвиот чин ја прикажува средбата на Жизел-девојка од село и грофот Алберт\, кој е дојден на лов. Таа безгранично се вљубува во него\, но не знае дека тој е благородник. Шумарот Хиларион\, кој исто така ја сака Жизел\, дознава за потеклото на грофот и кога неговата свита доаѓа во градот\, меѓу кои и неговата свршеница Батилда\, тој го разоткрива Алберт пред сите. Жизел не можејќи да ја прифати лагата за лажната љубов умира од болка.\nВториот чин ја прикажува играта на самовилите\, кои всушност се девојки кои умираат пред својата свадба. Тие преку ноќ излегуваат од своите гробови и танцуваат. Секој што ќе ја види нивната игра мора да умре.\nТаа ноќ во шумата доаѓа Хиларион\, а потоа и Алберт и ја искажуваат својата љубов на мртвата Жизел. Хиларион е фатен од самовилите и убиен\, а Алберт го спасува љубовта на Жизел\, која со него игра до раните зори. Кога сонцето изгрева самовилите исчезнуваат.
URL:https://operabalet.mk/event/%d0%b6%d0%b8%d0%b7%d0%b5%d0%bb-%d0%b0%d0%b4%d0%be%d0%bb%d1%84-%d0%b0%d0%b4%d0%b0%d0%bc-%d0%b1%d0%b5%d0%bb%d0%b3%d1%80%d0%b0%d0%b4%d1%81%d0%ba%d0%b8-%d0%bd%d0%b0%d1%80%d0%be%d0%b4%d0%b5%d0%bd-%d1%82/
LOCATION:Array
CATEGORIES:балет
ATTACH;FMTTYPE=image/jpeg:https://operabalet.mk/wp-content/uploads/2022/12/zizel-beograd.jpg
END:VEVENT
END:VCALENDAR