BEGIN:VCALENDAR
VERSION:2.0
PRODID:-//Национална опера и балет - ECPv4.0.7//NONSGML v1.0//EN
CALSCALE:GREGORIAN
METHOD:PUBLISH
X-WR-CALNAME:Национална опера и балет
X-ORIGINAL-URL:https://operabalet.mk
X-WR-CALDESC:Events for Национална опера и балет
BEGIN:VEVENT
DTSTART;TZID="Europe/Skopje":20211103T200000
DTEND;TZID="Europe/Skopje":20211103T223000
DTSTAMP:20260423T155655
CREATED:20210902T090108
LAST-MODIFIED:20211026T105347
UID:3187-1635969600-1635978600@operabalet.mk
SUMMARY:„Жизел“ - Балетска премиера (3.11.2021)
DESCRIPTION:\nПРЕМИЕРА\n Адолф Адам\n ЖИЗЕЛ\n 3.11.2021\n Почеток: 20.00 ч.\nДиригент: Иван Еминовиќ\nКореограф: Жан Корали\, Жил Перо\, Мариус Петипа\, Леонид Лавровски\nАдаптација: Ирена Пасариќ (Хрватска)\nСценограф: Александар Ношпал и Михајло Стојановски\nКостимограф: Александар Ношпал\nАсистент костимограф: Ангела Богеска\nКонцерт мајстор: Верица Ламбевска\nСветло дизајн: Милчо Александров\nРепетитори: Горан Божинов\, Александра Мијалкова\, Лора Тарчуговска\, Билјана Пашариковска\nФотограф и дизајнер: Емил Петров\nНастапуваат:\nЖизел: Мими Поп Алексова Атанасовска\nАлберт: Бобан Ковачевски\nХиларион: Игор Веланоски\nМирта: Ивана Коцевска\nПа де де: Христина Наќевска\, Ендру Кук (Англија)\nМајка: Марија Јосифовска Ристовска\nБатилда: Марија Брдароска\nГроф: Александар Петковски\nПридружник на грофот: Драган Кочоски\nПријателки:\nДијана Стојановска\, Бојана Христовска\, Меланија Гоцевска\, Теодора Ставревска\, Виолета Карајанова\, Наташа Трендафилова Гицев\nВалс и Селска игра\nЖени: Цветанка Максимовска\, Марија Глигорова\, Бистра Иванова\, Симона Митовска\, Илијана Данилов\, Ивана Димкоска\, Матеа Каревски\, Андријана Богатиноска\, Исидора Китановиќ\, Мартина Димкоска\, Мартина Цветкоска\nMажи: Мирослав Митрашиновиќ\, Агим Бафтии\, Мартин Саздовски\, Кристијан Јангос\, Николас Орсо\, Борјан Тетиев\, Бојан Димовски\, Веселин Трајковски\, Марин Анчевски\, Христијан Сарафов\nДве вилиси: Бојана Христовска\, Виолета Карајанова\, Наташа Трендафилова Гицев\nВилиси:\nМарина Анастасовска\, Дијана Стојановска\, Цветанка Максимовска\, Maрија Глигорова\, Стефанија Кузмановска\, Бистра Иванова\, Бранкица Јовеска\, Симона Митовска\, Илијана Данилов\, Ангела Богатинова\, Ивана Димкоска\, Меланија Гоцевска\, Андријана Богатиноска\, Матеа Карески\,Теодора Ставревска\, Исидора Китановиќ\, Мартина Димовска\nСвита:\nМажи: Виктор Караев\,Стефан Кочовски\, Дарко Балевски\, Димитри Павловски\nЖени: Маја Каревски\, Катерина Стевковска\, Анита Чаволи\, Наташа Ристиќ\nШтитоносци: ученици од ДМБУЦ „Илија Николовски – Луј“\nНастапува оркестарот на Националната опера и балет\nЖИЗЕЛ\n Синопсис\nБалетот Жизел е романтичен балет во два чина. Од неговата праизведба во Париз 1841 година па до денес\, тоа е еден од ретките балети кој има непрекината традиција на изведување.\nПрвиот чин ја прикажува средбата на Жизел-девојка од село и грофот Алберт\, кој е дојден на лов. Таа безгранично се вљубува во него\, но не знае дека тој е благородник. Шумарот Хиларион\, кој исто така ја сака Жизел\, дознава за потеклото на грофот и кога неговата свита доаѓа во градот\, меѓу кои и неговата свршеница Батилда\, тој го разоткрива Алберт пред сите. Жизел не можејќи да ја прифати лагата за лажната љубов умира од болка.\nВториот чин ја прикажува играта на самовилите\, кои всушност се девојки кои умираат пред својата свадба. Тие преку ноќ излегуваат од своите гробови и танцуваат. Секој што ќе ја види нивната игра мора да умре.\nТаа ноќ во шумата доаѓа Хиларион\, а потоа и Алберт и ја искажуваат својата љубов на мртвата Жизел. Хиларион е фатен од самовилите и убиен\, а Алберт го спасува љубовта на Жизел\, која со него игра до раните зори. Кога сонцето изгрева самовилите исчезнуваат.\n*************************************\n📌Настанот ќе се одржи според протоколите предвидени со моменталната состојба предизвикана од пандемијата Ковид-19 за одржување настани\, одобрени од Комисијата за заразни болести.\n📌Влезот е дозволен само со потврда за извршена вакцинација против КОВИД-19 или потврда за прележан КОВИД-19 во последните 45 дена\, сметајќи од денот на оздравувањето.\n📌Задолжително е носење на заштитна маска.\n☎️Билетарница: 078 426 536\n
URL:https://operabalet.mk/event/%d0%b6%d0%b8%d0%b7%d0%b5%d0%bb-%d0%b1%d0%b0%d0%bb%d0%b5%d1%82%d1%81%d0%ba%d0%b0-%d0%bf%d1%80%d0%b5%d1%82%d1%81%d1%82%d0%b0%d0%b2%d0%b0-%d1%80%d0%b5%d0%bf%d1%80%d0%b8%d0%b7%d0%b0-3/
LOCATION:Array
CATEGORIES:балет
ATTACH;FMTTYPE=image/png:https://operabalet.mk/wp-content/uploads/2021/09/Zizel-Web-sajt_mkd-1.png
END:VEVENT
END:VCALENDAR