BEGIN:VCALENDAR
VERSION:2.0
PRODID:-//Национална опера и балет - ECPv4.0.7//NONSGML v1.0//EN
CALSCALE:GREGORIAN
METHOD:PUBLISH
X-WR-CALNAME:Национална опера и балет
X-ORIGINAL-URL:https://operabalet.mk
X-WR-CALDESC:Events for Национална опера и балет
BEGIN:VEVENT
DTSTART;TZID="Europe/Skopje":20211204T200000
DTEND;TZID="Europe/Skopje":20211204T223000
DTSTAMP:20260423T152832
CREATED:20211103T194610
LAST-MODIFIED:20211123T103217
UID:3261-1638648000-1638657000@operabalet.mk
SUMMARY:„ЖИЗЕЛ“ – БАЛЕТСКА ПРЕТСТАВА (4.12.2021)
DESCRIPTION:\nАдолф Адам\nЖизел - 4.12.2021\, 20:00 часот\nДиригент: Иван Еминовиќ\nКореограф: Жан Корали\, Жил Перо\, Мариус Петипа\, Леонид Лавровски\nАдаптација: Ирена Пасариќ (Хрватска)\nСценограф: Александар Ношпал и Михајло Стојановски\nКостимограф: Александар Ношпал\nАсистент костимограф: Ангела Богеска\nКонцерт мајстор: Климент Тодороски\nСветло дизајн: Милчо Александров\nРепетитори: Горан Божинов\, Александра Мијалкова\, Лора Тарчуговска\, Билјана Пашариковска\nФотограф и дизајнер: Емил Петров\nНастапуваат:\nЖизел: Мими Поп Алексова Атанасовска\nАлберт: Бобан Ковачевски\nХиларион: Игор Веланоски\nМирта: Ивана Коцевска\nПа де де: Христина Наќевска\, Ендру Кук (Англија)
URL:https://operabalet.mk/event/%d0%b6%d0%b8%d0%b7%d0%b5%d0%bb-%d0%b1%d0%b0%d0%bb%d0%b5%d1%82%d1%81%d0%ba%d0%b0-%d0%bf%d1%80%d0%b5%d1%82%d1%81%d1%82%d0%b0%d0%b2%d0%b0-4-12-2021/
LOCATION:Array
CATEGORIES:балет
ATTACH;FMTTYPE=image/png:https://operabalet.mk/wp-content/uploads/2021/09/Zizel-Web-sajt_mkd-1.png
END:VEVENT
END:VCALENDAR