BEGIN:VCALENDAR
VERSION:2.0
PRODID:-//Национална опера и балет - ECPv4.0.7//NONSGML v1.0//EN
CALSCALE:GREGORIAN
METHOD:PUBLISH
X-WR-CALNAME:Национална опера и балет
X-ORIGINAL-URL:https://operabalet.mk
X-WR-CALDESC:Events for Национална опера и балет
BEGIN:VEVENT
DTSTART;TZID="Europe/Skopje":20231117T200000
DTEND;TZID="Europe/Skopje":20231117T223000
DTSTAMP:20260423T152956
CREATED:20230919T121116
LAST-MODIFIED:20231107T125656
UID:3876-1700251200-1700260200@operabalet.mk
SUMMARY:ЗАСПАНАТА УБАВИЦА - ПЕТАР ИЛИЧ ЧАЈКОВСКИ (17.11.023)
DESCRIPTION:\nПЕТАР ИЛИЧ ЧАЈКОВСКИ\nЗАСПАНАТА УБАВИЦА\n(балетска претстава)\n17.11.2023 – 20.00\nДиригент: Бисера Чадловска\nКореограф: Виктор Јаременко (Украина)\nАсистент–кореограф:Тетјана Белецка (Украина)\nСценограф / Koстимограф: Миодраг Табачки (Србија)\nСветло дизајн: Милчо Александров\nРепетитори: Горан Божинов\, Александра Мијалкова\,Олга Панго\,Билјана Пашариковска\, Дафина Данилоска-Кочевска\,Маја Митровска-Богојевска\,Саша Евтимова\nКонцерт мајстор: Јане Бакевски\nСоло виолина: Климент Тодороски\nСоло виолончело: Кирил Јосифов\nВо главните улоги:\nПринцеза Аврора: Мими Поп Алексова Атанасовска\nПринц Дезире: Франциско Хименез Руиз (Шпанија)\nВила Јоргован: Аманда Роча (Бразил)\nВила Карабос: Ангела Велевска\nНАСТАПУВААТ СОЛИСТИ\, БАЛЕТСКИОТ АНСАМБЛ И ОРКЕСТАРОТ НА НАЦИОНАЛНАТА ОПЕРА И БАЛЕТ\nИнспициенти: Дубравка Шопова\, Тијана Тарчуговска Георгиева\nКорепетитори:Марјан Василевски\,Стефан Пехчевски\nВреметраење: 2 часа\n \n 
URL:https://operabalet.mk/event/%d0%b7%d0%b0%d1%81%d0%bf%d0%b0%d0%bd%d0%b0%d1%82%d0%b0-%d1%83%d0%b1%d0%b0%d0%b2%d0%b8%d1%86%d0%b0-%d0%bf%d0%b5%d1%82%d0%b0%d1%80-%d0%b8%d0%bb%d0%b8%d1%87-%d1%87%d0%b0%d1%98%d0%ba%d0%be%d0%b2%d1%81/
LOCATION:Array
CATEGORIES:балет
ATTACH;FMTTYPE=image/jpeg:https://operabalet.mk/wp-content/uploads/2023/03/zaspanata-ubavica-grupna.jpg
END:VEVENT
END:VCALENDAR