BEGIN:VCALENDAR
VERSION:2.0
PRODID:-//Национална опера и балет - ECPv4.0.7//NONSGML v1.0//EN
CALSCALE:GREGORIAN
METHOD:PUBLISH
X-WR-CALNAME:Национална опера и балет
X-ORIGINAL-URL:https://operabalet.mk
X-WR-CALDESC:Events for Национална опера и балет
BEGIN:VEVENT
DTSTART;TZID="UTC+0":20210526T200000
DTEND;TZID="UTC+0":20210526T212000
DTSTAMP:20260423T134558
CREATED:20210514T105602
LAST-MODIFIED:20210525T110401
UID:3054-1622059200-1622064000@operabalet.mk
SUMMARY:Игри на животот - Премиера (26.5.2021)
DESCRIPTION:\n„Игри на животот“ - премиера\n26.05.2021\, 20 часот\, Салон на Национална опера и балет\nГлавната тема-идеја на проектот е Љубовта\, прикажана низ делата на\nХендл\, Персел\, Рамо и Бах\nИдеја: Татијана Петрушевска- прва обоа во Национална опера и балет\nДиригент : Иван Еминовиќ\nРежисер: Љупка Јакимовска\nКонцерт мајстор: Климент Тодороски\nКореограф: Саша Евтимова\nСценографија: Марија Ветероска\nКостимограф: Ангела Богевска\nСветло дизајн: Милчо Александров\nВизуена мултимедија : Емил Пачковски и Дарко Даутовиќ\nИспициенти: Љупчо Полизов\, Драган Костадиновиќ\, Марко Павлевски\nСолисти :\nБилјана Јосифов – сопран\nДраган Ампов – баритон\nОркестар:\nКлимент Тодороски\, Јане Бакевски – виолини\nМарија Георгиева – виола\nКирил Јосифов – виолончело\nМитко Иванов – контрабас\nМарија Јакимовска – флејта / пиколо\nТатијана Петрушевска \, Ѓорѓи Петрушевски – обои\nМарјан Милошевски – фагот\nТеодор Теодосиевски – ударни инструменти\nБалет:\nEндру Кук - Англија\nБaлаж Лaшеи - Унгарија\nМартина Димовска\nПрограма:\n1.Увертира (G.Fr.Handel “Salomon” The arrival of the Queen of Sheba III act)\n2.J.S.Bach Kantate Nr.202 “Weichet nur\, betrübte Schatten”\n3.H.Purcel”The Fairy Queen”- Оркестарска суита\n4.J.Ph.Rameau “Les Indes Galantes” -Оркестарска суита\n*************************************************\nНАПОМЕНА:\n\n*Настанот ќе се одржи според протоколите предвидени со моменталната состојба предизвикана од пандемијата Ковид-19 за одржување настани\, одобрени од Комисијата за заразни болести. Задолжително е носење на заштитна маска.\nВе молиме\, почитувајте ги мерките за заштита.\n*Распоредот на онлајн билетите  е во пар од две седишта едно до друго\, на пример седиште 5 и 6\, две слободни седишта\, па 9 и 10 седиште се на продажба. Доколку имате потреба од единечен билет или комбинација од 3 споени седишта ве молиме контактирајте не на телефонскиот број 078 426 536.
URL:https://operabalet.mk/event/%d0%b8%d0%b3%d1%80%d0%b8-%d0%bd%d0%b0-%d0%b6%d0%b8%d0%b2%d0%be%d1%82%d0%be%d1%82-%d0%bf%d1%80%d0%b5%d0%bc%d0%b8%d0%b5%d1%80%d0%b0-26-5-2021/
LOCATION:Array
CATEGORIES:концерт,опера
ATTACH;FMTTYPE=image/jpeg:https://operabalet.mk/wp-content/uploads/2021/05/igri-na-zivotot_web.jpg
END:VEVENT
END:VCALENDAR