BEGIN:VCALENDAR
VERSION:2.0
PRODID:-//Национална опера и балет - ECPv4.0.7//NONSGML v1.0//EN
CALSCALE:GREGORIAN
METHOD:PUBLISH
X-WR-CALNAME:Национална опера и балет
X-ORIGINAL-URL:https://operabalet.mk
X-WR-CALDESC:Events for Национална опера и балет
BEGIN:VEVENT
DTSTART;TZID="UTC+0":20210528T190000
DTEND;TZID="UTC+0":20210612T190000
DTSTAMP:20260423T140635
CREATED:20210527T092037
LAST-MODIFIED:20210527T094316
UID:3084-1622228400-1623524400@operabalet.mk
SUMMARY:Изложба на Зоран Костовски - „50 години сликарство-Ретроспектива“
DESCRIPTION:\n\nИзложбата на слики од Зоран Костовски е поставена во фоајето на Националната опера и балет која  е отворена за посета од 28.5 до 12.6.2021 година.\n\nСо оваа изложба се одбележува 50 годишниот  јубилеј на Зоран Костовски \, 50 години творечка дејност во сликарската уметност\, кој воедно е и 45 години член на друштвото на ликовни уметници во Р. Северна Македонија.\n\nРоден е во Скопје 1952 година а дипломирал на академијата „Св. Климент Охридски“-сликарски отсек во 1974 година. Остварува и студиски претстој во Париз\, Франција во 1986 година. Добитник е на повеќе награди меѓу која и наградата „Моша Пијаде“ за млади сликари во 1986 година а во 1989 година Америкианаскиот културен центар откупува негова слика која што е поставена во Белата куќа во Вашингтон со посвета за тогашниот претседател Џорџ Буш.\n\nЗоран Костоски до своето пензионирање беше дел од тимот на Националната опера и балет како сликар\, а се појавува и како сценограф на многубројни оперски и балестки претстави.\n\nОстварува повеќебројни самостојни изложби меѓу кои најважни се изложбите во Скопје\, Битола\, Охрид\, Осиек\, Загреб\, Нова Горица\, Келн и Ерштад - Германија.
URL:https://operabalet.mk/event/%d0%b8%d0%b7%d0%bb%d0%be%d0%b6%d0%b1%d0%b0-%d0%bd%d0%b0-%d0%b7%d0%be%d1%80%d0%b0%d0%bd-%d0%ba%d0%be%d1%81%d1%82%d0%be%d0%b2%d1%81%d0%ba%d0%b8-50-%d0%b3%d0%be%d0%b4%d0%b8%d0%bd%d0%b8-%d1%81/
LOCATION:Array
CATEGORIES:концерт
ATTACH;FMTTYPE=image/jpeg:https://operabalet.mk/wp-content/uploads/2021/05/zoran-kostovski-izlozba.jpg
END:VEVENT
END:VCALENDAR