BEGIN:VCALENDAR
VERSION:2.0
PRODID:-//Национална опера и балет - ECPv4.0.7//NONSGML v1.0//EN
CALSCALE:GREGORIAN
METHOD:PUBLISH
X-WR-CALNAME:Национална опера и балет
X-ORIGINAL-URL:https://operabalet.mk
X-WR-CALDESC:Events for Национална опера и балет
BEGIN:VEVENT
DTSTART;TZID="UTC+0":20201002T190000
DTEND;TZID="UTC+0":20201002T201000
DTSTAMP:20260423T170128
CREATED:20200930T134647
LAST-MODIFIED:20200930T134729
UID:2817-1601665200-1601669400@operabalet.mk
SUMMARY:„Интерфест“ Битола - гостување со концертна изведба на „Севилскиот бербер“
DESCRIPTION:\nНа 2 октомври 2020\, Националната опера и балет има чест да го отвори 29. издание на интернационалниот фестивал на класична музика „Интерфест“ - Битола\, со концертна изведба на операта „Севилскиот берберин“ од Џ. Росини.\n\nДиригент: Иван Еминовиќ\n\nНастапуваат:\nФигаро: Марјан Јованоски\nРозина: Билјана Јосифов\nГроф Алмавива:  Дејан Стоев\nДон Базилио: Владимир Саздовски\nДон Бартоло: Невен Сиљановски\nБерта: Злата Тошевска\nФиорело: Драган Ампов\n\nМашкиот хор и оркестарот на Национална опера и балет\n\n
URL:https://operabalet.mk/event/%d0%b8%d0%bd%d1%82%d0%b5%d1%80%d1%84%d0%b5%d1%81%d1%82-%d0%b1%d0%b8%d1%82%d0%be%d0%bb%d0%b0-%d0%b3%d0%be%d1%81%d1%82%d1%83%d0%b2%d0%b0%d1%9a%d0%b5-%d1%81%d0%be-%d0%ba%d0%be%d0%bd/
LOCATION:Array
CATEGORIES:концерт
ATTACH;FMTTYPE=image/jpeg:https://operabalet.mk/wp-content/uploads/2016/09/sevilski_slika.jpg
END:VEVENT
END:VCALENDAR