BEGIN:VCALENDAR
VERSION:2.0
PRODID:-//Национална опера и балет - ECPv4.0.7//NONSGML v1.0//EN
CALSCALE:GREGORIAN
METHOD:PUBLISH
X-WR-CALNAME:Национална опера и балет
X-ORIGINAL-URL:https://operabalet.mk
X-WR-CALDESC:Events for Национална опера и балет
BEGIN:VEVENT
DTSTART;TZID="Europe/Skopje":20250131T200000
DTEND;TZID="Europe/Skopje":20250131T212000
DTSTAMP:20260423T141229
CREATED:20241227T153759
LAST-MODIFIED:20250128T130024
UID:4385-1738353600-1738358400@operabalet.mk
SUMMARY:Кавалерија Рустикана - Пјетро Маскaњи (31.1.2025)
DESCRIPTION:\nПјетро Маскaњи\n“Кавалерија рустикана”\n31.01.2025 година– Почеток 20ч.\nДиригент: Иван Еминовиќ\nРежисер: Џандоменико Вакари ( Италија) - Giandomenico Vaccari\nАсс.режисер: Алесандро Идонеа (Италија) - Alessandro Idonea\,\nЉупка Јакимовска\, Трајко Јордановски\nСценограф: Зоран Николовски\nКостимограф: Елена Дончева\nКонцерт мајстор: Верица Ламбевска\nХор – мајстор: Ѓургица Дашиќ\, Јасмина Ѓорѓеска\nКорепетитори: Елена Сиљаноска\, Јанинка Невчева\, Андреја Наунов\,Горјан Стојановски\nНастапуваат:\nСантуца: Весна Гиновска Илкова\nТуриду: Зоран Сотиров\nАлфио: Марјан Јованоски\nЛола: Марија Наумовска\nМајка Лучија: Марика Поповиќ\nИнспициенти: Драган Костадиновиќ\, Марко Павлевски\nСуфлер:Невена Георгиева\nУметнички раководител на опера\nХристо Саракинов\nОпера во еден чин\n(Праизведба во Рим\, 17.05.1890) Прељуба\, љубомора\, одмазда = Трагедија Содржина: Вечер пред Велигден во сицилијанско село. Младата Сантуца се упатува кон куќата на Лучија\, мајката на Туриду\, човекот кој таа го сака\, а во чија љубов се сомнева\, сo цел да разговара со него. Но\, наместо разговор\, таа ги гледа Туриду и Лола како тајно се среќаваат. Лола е жена на коларот Алфио. Туриду\, пред да замине во војска бил свршен со Лола\, но во меѓувреме таа се омажила за имотниот Алфио. Туриду после враќањето од војска разочаран\, бара утеха во прегратките на селанката Сантуца.\nСантуца\, сега веќе грешница во очите на селаните\, останува сосема сама\, отфрлена од сите. Таа неможејќи да ја совлада љубомората и кажува на мајката на Туриду Лучија\, каков грев сторил нејзиниот син. Доаѓа и Алфио\, кој после долго патување се враќа во селото и кажува како и тој го видел Туриду покрај неговата куќа.\nЗборовите на Сантуца и она што го слуша од Алфио\, ја фрлаат мајката Лучија во сомнеж и страв. Доаѓа Туриду\, Сантуца сака да зборува со него\, но е спречена од Лола која кокетира со Туриду и заедно со него оди во црква. Сантуца\, пред која селаните ги затвораат црковните врати\, останува сама. Наидува Алфио и таа му кажува за прељубата на неговата жена.\nТој ветува одмазда. Дури тогаш Сантуца сфаќа што сторила\, но веќе е доцна.\nСо цел да го спаси својот сакан и да си ја врати честа пред селаните\, таа оди да ги викне карабинерите да го спречат Алфио во одмаздата и да го спасат Туриду. После црковната служба\, Туриду ги поканува другарите да се напијат во неговата крчма. Доаѓаат и Лола и Алфио. Туриду ги гледа како танцуваат. По острата расправија\, Туриду и Алфио решаваат да излезат на двобој. Туриду веќе нема излез. Тој и се обраќа на својата мајка со молба да ја чува Сантуца\, ако тој не се врати. Мајката Лучија сеуште не сфаќа што се случува. Сантуца доаѓа доцна со карабинерите. Се слуша само: \,\,Туриду е мртов\n
URL:https://operabalet.mk/event/%d0%ba%d0%b0%d0%b2%d0%b0%d0%bb%d0%b5%d1%80%d0%b8%d1%98%d0%b0-%d1%80%d1%83%d1%81%d1%82%d0%b8%d0%ba%d0%b0%d0%bd%d0%b0-%d0%bf%d1%98%d0%b5%d1%82%d1%80%d0%be-%d0%bc%d0%b0%d1%81%d0%baa%d1%9a%d0%b8-31-1-2/
LOCATION:Array
CATEGORIES:опера
ATTACH;FMTTYPE=image/jpeg:https://operabalet.mk/wp-content/uploads/2017/09/kavaleria1.jpg
END:VEVENT
END:VCALENDAR