BEGIN:VCALENDAR
VERSION:2.0
PRODID:-//Национална опера и балет - ECPv4.0.7//NONSGML v1.0//EN
CALSCALE:GREGORIAN
METHOD:PUBLISH
X-WR-CALNAME:Национална опера и балет
X-ORIGINAL-URL:https://operabalet.mk
X-WR-CALDESC:Events for Национална опера и балет
BEGIN:VEVENT
DTSTART;TZID="Europe/Skopje":20221216T080000
DTEND;TZID="Europe/Skopje":20221216T212000
DTSTAMP:20260423T203119
CREATED:20221020T083249
LAST-MODIFIED:20221209T110936
UID:3583-1671177600-1671225600@operabalet.mk
SUMMARY:„КАРМИНА БУРАНА“ - Карл Орф ( 16.12.2022)
DESCRIPTION:\n\nКАРЛ ОРФ  \n„КАРМИНА БУРАНА“ \n16.12.2022 – 20:00\nДиригент: Бисера Чадловска\nКореограф и либрето: Кан Арслан (Турција)\nСценограф: Миодраг Табачки (Србија)\nКостимограф на балет: Гизем Бетил (Турција)\nКостимограф на опера: Елена Дончева\nКонцерт –мајстор: Климент Тодороски\nРепетитори: Горан Божинов\, Александра Мијалкова\, Дафина Данилоска-Кочевска\, Саша Евтимова\nХор мајстор: Јасмина Ѓорѓевска\nКорепетитори: Елена Сиљаноска\, Јанинка Невчева\, Андреја Наунов и Јордан Петрушевски\nИнспициенти: Љупчо Полизов\, Драган Костадиновиќ\, Марко Павлевски\, Дубравка Шопова\, Тијана Тарчуговска\nСуфлер: Невена Георгиева\nСолисти на опера:\nСопран: Надe Талевска\nБаритон : Васко Здравков\nКонтра тенор: Денис Димоски\nСолисти на балет:\nОган: Мими Поп Алексова Атанасовска\nВетер: Игор Веланоски (Франциско Хименез Руиз)\nФортуна: Ивана Коцевска\nВода: Саша Евтимова (Христина Наќевска)\nЗемја: Мирослав Митрашиновиќ (Балаж Лочеи)\nНастапуваат: Хорот\, балетскиот ансамбл и оркестарот на Националната опера и балет\nШТО Е „КАРМИНА БУРАНА“ Наједноставно кажано\, тоа е вечното актуелно прашање на животната радост\, слободата и страста за која пееат уште патувачките студенти и клериците. Истоимениот ракопис од 13 век пронајден 1803 г. во баварскиот манастир Бенедиктбевер беше Орфова инспирација: конечно дваесетина текстови стануваат и конкретен текстуален предлог за ова музичко остварување. Композиторот ни овде не смета на потполно\, логично разбирање\, на различните јазици: барајќи ги корените на врската што постојат помеѓу митот\, музиката и јазикот\, разбирањето го нуди во спрега на сите елементи и неизбежното физичко движење – ритамот. „Што е појасна и поедноставна пораката- уште посилен е и подиректен крајниот ефект“. Тој водечки принцип на Орфовото уметничко уверување\, силината на неговиот звук и ритамот\, произлегуваат уште од експерименталната Гинтерова школа за гимнастика\, музика и игра чии што соосновач бил и Орф во Минхен 1924г. Светот на „Кармина Бурана“ е саканиот свет што го остваруваат најспремните. Таму каде што Фортуната- Среќата владее со светот\, а сонцето и богот на љубовта имаат власт над сите\, трае силна \, незапирлива радост. Орфовата музика и неговата визија за театарската волшебност стануваат дел од екстазата на стариот грчки театар: низ неа се обновуваат мистериите\, ритуалните свечености\, латинската комедија но и фолклорниот театар од тоа поднебје. Кармина Бурана веќе со години го привлекува вниманието на режисери и кореографи од целиот свет поради привлечноста на синкретизмот кој зрачи како неисцрпен извор на можности за нови идеи и инспирации.
URL:https://operabalet.mk/event/%d0%ba%d0%b0%d1%80%d0%bc%d0%b8%d0%bd%d0%b0-%d0%b1%d1%83%d1%80%d0%b0%d0%bd%d0%b0-%d0%ba%d0%b0%d1%80%d0%bb-%d0%be%d1%80%d1%84-17-12-2022/
LOCATION:Array
CATEGORIES:балет,опера
ATTACH;FMTTYPE=image/jpeg:https://operabalet.mk/wp-content/uploads/2018/09/carmina_burana.jpg
END:VEVENT
END:VCALENDAR