BEGIN:VCALENDAR
VERSION:2.0
PRODID:-//Национална опера и балет - ECPv4.0.7//NONSGML v1.0//EN
CALSCALE:GREGORIAN
METHOD:PUBLISH
X-WR-CALNAME:Национална опера и балет
X-ORIGINAL-URL:https://operabalet.mk
X-WR-CALDESC:Events for Национална опера и балет
BEGIN:VEVENT
DTSTART;TZID="Europe/Skopje":20231207T200000
DTEND;TZID="Europe/Skopje":20231207T211000
DTSTAMP:20260423T100120
CREATED:20231117T092859
LAST-MODIFIED:20231207T091332
UID:3924-1701979200-1701983400@operabalet.mk
SUMMARY:„КАРМИНА БУРАНА“ - Карл Орф  (7.12.2023)
DESCRIPTION:\n„КАРМИНА БУРАНА“\nКарл Орф\n07.12.2023-20ч.\nДиригент: Иван Еминовиќ\nКонцерт - мајстор: Верица Ламбевска\nХор мајстор: Јасмина Ѓорѓевска\nКорепетитори: Елена Сиљаноска\, Јанинка Невчева\, Андреја Наунов и Јордан Петрушевски\nИнспициенти: Љупчо Полизов\, Драган Костадиновиќ\, Марко Павлевски\nСуфлер: Невена Георгиева\nСолисти на опера:\nСопран: Надe Талевска\nБаритон : Васко Здравков\nКонтра тенор: Нико Ѓоргиевски\nНастапуваат: Хорот и оркестарот на Национална опера и балет\n
URL:https://operabalet.mk/event/%d0%ba%d0%b0%d1%80%d0%bc%d0%b8%d0%bd%d0%b0-%d0%b1%d1%83%d1%80%d0%b0%d0%bd%d0%b0-%d0%ba%d0%b0%d1%80%d0%bb-%d0%be%d1%80%d1%84-7-12-2023/
LOCATION:Array
CATEGORIES:балет,опера
ATTACH;FMTTYPE=image/jpeg:https://operabalet.mk/wp-content/uploads/2018/09/carmina_burana.jpg
END:VEVENT
END:VCALENDAR