BEGIN:VCALENDAR
VERSION:2.0
PRODID:-//Национална опера и балет - ECPv4.0.7//NONSGML v1.0//EN
CALSCALE:GREGORIAN
METHOD:PUBLISH
X-WR-CALNAME:Национална опера и балет
X-ORIGINAL-URL:https://operabalet.mk
X-WR-CALDESC:Events for Национална опера и балет
BEGIN:VEVENT
DTSTART;TZID="UTC+0":20160610T200000
DTEND;TZID="UTC+0":20160610T213000
DTSTAMP:20260424T213204
CREATED:20160530T103653
LAST-MODIFIED:20160606T064227
UID:528-1465588800-1465594200@operabalet.mk
SUMMARY:Концерт во чест на проф. „Коста Трпков“ (Фоаје на МОБ)
DESCRIPTION:Гала концерт „Коста Трпков“\n\nсо студентите од државните музички факултети во Р. Македонија\n\nНастапува Оркестарот на Македонската опера и балет\n\nДиригент: Иван Еминовиќ\n\n20.00 часот\, Фоаје на МОБ\, влез слободен\n\nПРОГРАМА:\n\n\tМагдалена Тодоровска\, 1 година\, класа доц. Ана Дурловски: W. A. Mozart\, Cosi fan tutte\, Dorabella: “E amore un ladroncello”\n\tШинаси Рамадан\, 1 година\, класа проф. Весна Ѓиновска Илкова: W. A. Mozart\, Die Zauberflote\, Papageno: “Ein Mädchen oder Weibchen”\n\tДевана Ѓорѓиевска\, 4 година\, класа проф. Славица Петровска Галиќ: Purcell\, Dido and Aeneas\, Dido: “When I am laid in earth”\n\tДаниел Илиевски\, 2 година\, класа вонр.проф. Горан Начевски: П. И. Чајковски\, Евгениј Онегин\, Кнез Гремин „Любви все возрасты покорны“\n\tТодор Арсовски\, 2 година\, класа проф. Весна Ѓиновска Илкова: Verdi\, Simon Boccanegra\, Fiesco: “Il lacerato spirito”\n\tБилјана Камчева\, 4 година\, класа проф. Марија Муратовска Наумовска: G. Bizet\, Carmen\, Micaela: "Je dis que rien ne m'épouvante"\n\tЛука Петешев - класа проф. Борис Трајанов R.Wagner – aria na Wolfran – \,\,Oh du mein holder Abendstern\,\, – од операта \,\,Tannhoizer\,\,\n\tВлатко Груевски\, 3 година\, класа проф. Славица Петровска Галиќ: Verdi\, Rigoletto\, Duca: “Questa o quella”\n\tКатерина Весковска\, 4 година\, класа доц. Ана Дурловски: G. Bizet\, Carmen\, Seguidilla: “Près des remparts de Séville”\n\tМирјана Бурназ\, 4 година\, класа проф. Весна Ѓиновска Илкова: G. Verdi\, Rigoletto\, Gilda: “Caro nome”\n\tЈаворка Витанова\, 2 година\, класа проф. Весна Ѓиновска Илкова: Puccini\, Turandot\, Liu: “Tu che di gel sei cinta”\n\tЕлена Тасевска\, 3 година\, класа проф. Весна Ѓиновска Илкова: П. И. Чајковски\, Евгениј Онегин\, Олга: „ Я не способна к грусти томной“\n\tСтефан Неданоски\, 3 година\, класа вонр.проф. Горан Начевски: Leoncavallo\, Pagliacci\, Canio: “Recitar…Vesti la giubba”\n\tПолина Тасева\, 4 година\, класа проф. Марија Муратовска Наумовска: J. Strauss\, Die Fledermaus: “Mein Herr Marquis”\n\n 
URL:https://operabalet.mk/event/%d0%ba%d0%be%d0%bd%d1%86%d0%b5%d1%80%d1%82-%d0%b2%d0%be-%d1%87%d0%b5%d1%81%d1%82-%d0%bd%d0%b0-%d0%bf%d1%80%d0%be%d1%84-%d0%ba%d0%be%d1%81%d1%82%d0%b0-%d1%82%d1%80%d0%bf%d0%ba%d0%be%d0%b2/
LOCATION:бул. Гоце Делчев бр.4\, Скопје\, Скопје\, 1000\, Macedonia
CATEGORIES:концерт
ATTACH;FMTTYPE=image/gif:https://operabalet.mk/wp-content/uploads/2016/02/01.gif
END:VEVENT
END:VCALENDAR