BEGIN:VCALENDAR
VERSION:2.0
PRODID:-//Национална опера и балет - ECPv4.0.7//NONSGML v1.0//EN
CALSCALE:GREGORIAN
METHOD:PUBLISH
X-WR-CALNAME:Национална опера и балет
X-ORIGINAL-URL:https://operabalet.mk
X-WR-CALDESC:Events for Национална опера и балет
BEGIN:VEVENT
DTSTART;TZID="Europe/Skopje":20211025T200000
DTEND;TZID="Europe/Skopje":20211025T210000
DTSTAMP:20260423T124250
CREATED:20210929T144619
LAST-MODIFIED:20211020T132937
UID:3229-1635192000-1635195600@operabalet.mk
SUMMARY:Концерт на Марјан Јованоски и Владимир Саздовски (25.10.2021)
DESCRIPTION:\n25.10.2021/20.00 ч.\nКонцерт на солистите на Национална опера и балет\nМарјан Јованоски – баритон и Владимир Саздовски- бас\nГостин: Сандра Митровска - сопран\nПијано придружба: Елена Сиљаноска\nПрограма:\n1. Ж. Бизе – арија на Ескамиљо од операта „Кармен“\nИсполнува – Марјан Јованоски\n2. Џ. Росини – арија на Дон Базилио од операта  „Севилскиот бербер“\nИсполнува – Владимир Саздовски\n3. Џ. Росини – арија на Фигаро од операта „Севилскиот бербер“\nИсполнува – Марјан Јованоски\n4. В. А. Моцарт – арија на Лепорело од операта „Дон Џовани“\nИсполнува – Владимир Саздовски\n5. Џ. Верди – дует на Риголето и Спарафучил од операта „Риголето“\nИсполнуваат : Марјан Јованоски и Владимир Саздовски и\n6.Џ. Верди - арија на Риголето од операта „Риголето“\nИсполнува – Марјан Јованоски\n7. А. Дворжак – арија на Русалка од операта „Русалка“\nИсполнува: Сандра Митровска\n8.П. И. Чајковски – арија на Кнез Гремин од операта „Евгениј Онегин“\nИсполнува – Владимир Саздовски\n9. У. Џордано - арија на Жерар од операта „Андреа Шение“\nИсполнува – Марјан Јованоски\n10. Џ.Верди - арија на Банко од операта „Магбет“\nИсполнува – Владимир Саздовски\n11. П. Маскањи – дует на Сантуца и Алфио од операта „Кавалерија рустикана“\nИсполнуваат : Сандра Митровска и Марјан Јованоски\n
URL:https://operabalet.mk/event/%d0%ba%d0%be%d0%bd%d1%86%d0%b5%d1%80%d1%82-%d0%bd%d0%b0-%d0%bc%d0%b0%d1%80%d1%98%d0%b0%d0%bd-%d1%98%d0%be%d0%b2%d0%b0%d0%bd%d0%be%d1%81%d0%ba%d0%b8-%d0%b8-%d0%b2%d0%bb%d0%b0%d0%b4%d0%b8%d0%bc%d0%b8/
LOCATION:Array
CATEGORIES:концерт
ATTACH;FMTTYPE=image/jpeg:https://operabalet.mk/wp-content/uploads/2021/09/marjan-sazdo1.jpg
END:VEVENT
END:VCALENDAR