BEGIN:VCALENDAR
VERSION:2.0
PRODID:-//Национална опера и балет - ECPv4.0.7//NONSGML v1.0//EN
CALSCALE:GREGORIAN
METHOD:PUBLISH
X-WR-CALNAME:Национална опера и балет
X-ORIGINAL-URL:https://operabalet.mk
X-WR-CALDESC:Events for Национална опера и балет
BEGIN:VEVENT
DTSTART;TZID="Europe/Skopje":20231020T200000
DTEND;TZID="Europe/Skopje":20231020T210000
DTSTAMP:20260423T085751
CREATED:20231006T110941
LAST-MODIFIED:20231006T110941
UID:3899-1697832000-1697835600@operabalet.mk
SUMMARY:КОНЦЕРТ НА ОПЕРСКИТЕ СОЛИСТИ СО ПИЈАНО ПРИДРУЖБА (20.10.2023)
DESCRIPTION:\nНАЦИОНАЛНА ОПЕРА И БАЛЕТ\nГОСТУВАЊЕ НИЗ РЕПУБЛИКАТА\nКОНЦЕРТ НА ОПЕРСКИТЕ СОЛИСТИ СО ПИЈАНО ПРИДРУЖБА\nПОДАРОК ЗА ГРАДОТ...\nПРИЛЕП\n\nГОСТУВАЊЕ НА ОПЕРСКИТЕ СОЛИСТИ ОД ОПЕРАТА ВО ДОМ НА КУЛТУРАТА „МАРКО ЦЕПЕНКОВ“ – ПРИЛЕП\n20.10.2023\, ДОМ НА КУЛТУРАТА „МАРКО ЦЕПЕНКОВ“ – ПРИЛЕП\, 19.30ч.\nСОЛИСТИ:\n• Надe Талевска\n• Катерина Стојановска\n• Соња Пендовска – Мадевска\n• Павлина Новакова - Георгиева\nПИЈАНО : Андреј Наунов\nП Р О Г Р А М А\n1. Ж.Бизе – Арија на Кармен „Хабанера“ од операта „Кармен“\nИсполнува: Соња Пендовска – Мадевска\n2. Џ.Росини – Арија на Берта од операта „Севилскиот бербер“\nИсполнува: Соња Пендовска – Мадевска\n3. Л.Делиб – Дует на Лакме и Малика од операта „Лакме“\nИсполнуваат: Нада Талевска – Спасовска и Соња Пендовска – Мадевска\n4. Џ.Верди – Арија на Леонора \,\,Pace\,pace \,mio dio!" од операта „Моќта на судбината“\nИсполнува: Павлина Новакова – Георгиева\n5. Џ.Пучини – Арија на Тоска „\,\,Vissi d'arte" од операта „Тоска“\nИсполнува: Павлина Новакова – Георгиева\n6. П.Маскањи – „Ave Maria“\nИсполнува: Катерина Стојановска\n7. Џ.Пучини – Арија на Мими "Si\, mi chiamano Mimi" од операта „Боеми“\nИсполнува: Катерина Стојановска\n8. В.Ди Киара – „La Spagnola“\nИсполнува: Катерина Стојановка
URL:https://operabalet.mk/event/%d0%ba%d0%be%d0%bd%d1%86%d0%b5%d1%80%d1%82-%d0%bd%d0%b0-%d0%be%d0%bf%d0%b5%d1%80%d1%81%d0%ba%d0%b8%d1%82%d0%b5-%d1%81%d0%be%d0%bb%d0%b8%d1%81%d1%82%d0%b8-%d1%81%d0%be-%d0%bf%d0%b8%d1%98%d0%b0%d0%bd-2/
LOCATION:Array
CATEGORIES:концерт
ATTACH;FMTTYPE=image/gif:https://operabalet.mk/wp-content/uploads/2016/02/03.gif
END:VEVENT
END:VCALENDAR