BEGIN:VCALENDAR
VERSION:2.0
PRODID:-//Национална опера и балет - ECPv4.0.7//NONSGML v1.0//EN
CALSCALE:GREGORIAN
METHOD:PUBLISH
X-WR-CALNAME:Национална опера и балет
X-ORIGINAL-URL:https://operabalet.mk
X-WR-CALDESC:Events for Национална опера и балет
BEGIN:VEVENT
DTSTART;TZID="UTC+0":20210520T200000
DTEND;TZID="UTC+0":20210520T210000
DTSTAMP:20260423T134646
CREATED:20210517T104354
LAST-MODIFIED:20210519T140047
UID:3059-1621540800-1621544400@operabalet.mk
SUMMARY:Концерт на Солистите на Националната опера и балет (20.05.2021 -онлајн)
DESCRIPTION:\nНАЦИОНАЛНА ОПЕРА И БАЛЕТ\n   ОПЕРА\n\nКонцерт на солистите на Националната опера\n20.05.2021 - 20.00 ч. / YouTube канал на Национална опера и балет\n\nСолисти : Сандра Митровска – сопран\, Зоран Сотиров – тенор и Марјан Јованоски – баритон\nПијано соработка: Андреја Наунов\nРежисер: Дејан Прошев\nСветло дизајн: Милчо Александров\nИнспициент: Драган Костадиновиќ\, Марко Павлевски\n\nПрограма:\n1. Р. Леонкавало – Арија на Родолфо „Testa adorata“од операта „Боеми“\nИсполнува: Зоран Сотиров\n2. Џ. Верди – Арија на Амелија „Morro\,ma prima in grazia“ од операта „Бал под маски“\nИсполнува: Сандра Митровска\n3. Џ. Верди – Арија на Ренато „Eri tu..“ од операта „Бал под маски“\nИсполнува: Марјан Јованоски\n4. Џ.Пучини – Арија на Дик Џонсон „Ch’ella mi creda“ од операта „Девојката од западот“\nИсполнува: Зоран Сотиров\n5. Џ. Пучини –Арија на Мими „Si\,mi chiamano Mimi“ од операта „Боеми“\nИсполнува: Сандра Митровска\n6. Р.Леонкавало – Арија на Тонио од операта „Палјачи“\nИсполнува: Марјан Јованоски\n7. Р.Леонкавало – Арија на Канио „Vesti la gubba“ од операта „Палјачи“\nИсполнува: Зоран Сотиров\n8. Џ. Верди – Дует на Гроф Луна и Леонора од операта „Трубадур“\nИсполнуваат: Сандра Митровска и Марјан Јованоски\n9. Ф.Чилеа – Арија на Маурицио „L’anima ho stanca“ од операта „Адријана Лекуврер“\nИсполнува: Зоран Сотиров\n10. Ж.Бизе – Арија на Ескамиљо од операта „Кармен“\nИсполнува: Марјан Јованоски\n11. Ф.Чилеа – Арија на Федерико „L’amento di Federico“ од операта „Арлезиана“\nИсполнува: Зоран Сотиров\n12. Џ.Пучини – Арија на Чо Чо Сан „Un bel di vedremo“ од операта „Мадам Батерфлај“\nИсполнува: Сандра Митровска\n ЛИНК ДО НАСТАНОТ
URL:https://operabalet.mk/event/%d0%ba%d0%be%d0%bd%d1%86%d0%b5%d1%80%d1%82-%d0%bd%d0%b0-%d1%81%d0%be%d0%bb%d0%b8%d1%81%d1%82%d0%b8%d1%82%d0%b5-%d0%bd%d0%b0-%d0%bd%d0%b0%d1%86%d0%b8%d0%be%d0%bd%d0%b0%d0%bb%d0%bd%d0%b0%d1%82%d0%b0/
LOCATION:Array
CATEGORIES:концерт,опера
ATTACH;FMTTYPE=image/jpeg:https://operabalet.mk/wp-content/uploads/2021/05/vtor-recital-maj-2021.jpg
END:VEVENT
END:VCALENDAR