BEGIN:VCALENDAR
VERSION:2.0
PRODID:-//Национална опера и балет - ECPv4.0.7//NONSGML v1.0//EN
CALSCALE:GREGORIAN
METHOD:PUBLISH
X-WR-CALNAME:Национална опера и балет
X-ORIGINAL-URL:https://operabalet.mk
X-WR-CALDESC:Events for Национална опера и балет
BEGIN:VEVENT
DTSTART;TZID="Europe/Skopje":20240702T203000
DTEND;TZID="Europe/Skopje":20240702T213000
DTSTAMP:20260423T085751
CREATED:20240610T162625
LAST-MODIFIED:20240614T100124
UID:4081-1719952200-1719955800@operabalet.mk
SUMMARY:Концерт на солистите од хорот со пијано придружба - Скопско лето (2.7.2024)
DESCRIPTION:\nНАЦИОНАЛНА ОПЕРА И БАЛЕТ\nСКОПСКО ЛЕТО\nКонцерт на солистите од хорот со пијано придружба\nПРЕД ПЛАТО НА НОБ\n02.07.2024 20.30ч\n \nУчесници:\nБилјана Бајевска\nМарија Наумовска\nКатерина Весковска\nНадежда Рубен\nМила Николовска\nВиктор Битовски\nДенис Димоски\nНикола Чедомировски\nПијано придружба: Елена Сиљаноска
URL:https://operabalet.mk/event/%d0%ba%d0%be%d0%bd%d1%86%d0%b5%d1%80%d1%82-%d0%bd%d0%b0-%d1%81%d0%be%d0%bb%d0%b8%d1%81%d1%82%d0%b8%d1%82%d0%b5-%d0%be%d0%b4-%d1%85%d0%be%d1%80%d0%be%d1%82-%d1%81%d0%be-%d0%bf%d0%b8%d1%98%d0%b0%d0%bd/
LOCATION:Array
CATEGORIES:концерт
ATTACH;FMTTYPE=image/jpeg:https://operabalet.mk/wp-content/uploads/2024/06/zvezdeno-nebol.jpg
END:VEVENT
END:VCALENDAR