BEGIN:VCALENDAR
VERSION:2.0
PRODID:-//Национална опера и балет - ECPv4.0.7//NONSGML v1.0//EN
CALSCALE:GREGORIAN
METHOD:PUBLISH
X-WR-CALNAME:Национална опера и балет
X-ORIGINAL-URL:https://operabalet.mk
X-WR-CALDESC:Events for Национална опера и балет
BEGIN:VEVENT
DTSTART;TZID="UTC+0":20210622T210000
DTEND;TZID="UTC+0":20210622T220000
DTSTAMP:20260423T134647
CREATED:20210614T104454
LAST-MODIFIED:20210618T174812
UID:3105-1624395600-1624399200@operabalet.mk
SUMMARY:Концерт на хорот на Националната опера и балет (22.06.2021 –ГТЦ – зелен покрив- 21ч)
DESCRIPTION:\nКонцерт на хорот на Националната опера и балет - Скопско лето 2021\n22.06.2021 –ГТЦ – зелена тераса- 21ч.\nДиригенти/Хор мајстори:\nЈасмина Ѓоргеска и Гургица Дашиќ\nПијано придружба: Јанинка Невчева\nРежисер: Трајко Јордановски\nИспициенти: Љупчо Полизов\, Драган Костадиновиќ\, Марко Павлевски\nПрограма:\n1. К.Орф – Кармина Бурана -O fortuna\n2. Џ. Верди – опера Набуко \,\,Gli aredi festive“\n3. Џ. Верди – опера Набуко \,\,Va pensiero“\n4. Џ. Верди – опера Трубадур \,\,Or co\, dadi ma fra poco“\n5. Џ. Верди – опера Трубадур \,\,Vedi le fosche“\n6. Џ. Верди – опера Травијата \,\, Coro di zingarelle e mattadori“\nИсполнуваат: Марија Наумовска и Борко Биџовски\n7. Ж. Бизе – арија на Кармен од операта \,\,Кармен“ - Habanera –\nИсполнува: Хелене Ангеловска\n8. Ж. Бизе – арија на Ескамиљо од операта \,\,Кармен“\nИсолнува: Ернес Ибраимовски\n9. Џ. Верди – опера Травијата „Libiamo“\nИсполнуваат: Серафина Фантаузо и Никола Стојчески\nНастапува хорот на Национална опера и балет
URL:https://operabalet.mk/event/%d0%ba%d0%be%d0%bd%d1%86%d0%b5%d1%80%d1%82-%d0%bd%d0%b0-%d1%85%d0%be%d1%80%d0%be%d1%82-%d0%bd%d0%b0-%d0%bd%d0%b0%d1%86%d0%b8%d0%be%d0%bd%d0%b0%d0%bb%d0%bd%d0%b0%d1%82%d0%b0-%d0%be%d0%bf%d0%b5%d1%80-2/
LOCATION:Array
CATEGORIES:концерт
ATTACH;FMTTYPE=image/jpeg:https://operabalet.mk/wp-content/uploads/2021/05/hor_koncert.jpg
END:VEVENT
END:VCALENDAR