BEGIN:VCALENDAR
VERSION:2.0
PRODID:-//Национална опера и балет - ECPv4.0.7//NONSGML v1.0//EN
CALSCALE:GREGORIAN
METHOD:PUBLISH
X-WR-CALNAME:Национална опера и балет
X-ORIGINAL-URL:https://operabalet.mk
X-WR-CALDESC:Events for Национална опера и балет
BEGIN:VEVENT
DTSTART;TZID="UTC+0":20161022T200000
DTEND;TZID="UTC+0":20161022T210000
DTSTAMP:20260426T001309
CREATED:20161004T153344
LAST-MODIFIED:20161022T124321
UID:834-1477166400-1477170000@operabalet.mk
SUMMARY:КОНЦЕРТ ВО ДОМ НА АРМ – Џампјеро Собрино – кларинет ( Италија)
DESCRIPTION:Концерт на Џампјеро Собрино (кларинет) и Славица Галиќ Петровска (сопран) во Дом на АРМ\n\nДиригент: Бисера Чадловска\nРежисер: Дејан Прошев\nКонцерт мајстор: Верица Ламбевска\n\n 
URL:https://operabalet.mk/event/%d0%ba%d0%be%d0%bd%d1%86%d0%b5%d1%80%d1%82-%d1%9f%d0%b0%d0%bc%d0%bf%d1%98%d0%b5%d1%80%d0%be-%d1%81%d0%be%d0%b1%d1%80%d0%b8%d0%bd%d0%be-%d0%ba%d0%bb%d0%b0%d1%80%d0%b8%d0%bd%d0%b5/
LOCATION:бул. Гоце Делчев бр.4\, Скопје\, Скопје\, 1000\, Macedonia
CATEGORIES:концерт
ATTACH;FMTTYPE=image/jpeg:https://operabalet.mk/wp-content/uploads/2016/10/sobrino-web-2.jpg
END:VEVENT
END:VCALENDAR