BEGIN:VCALENDAR
VERSION:2.0
PRODID:-//Национална опера и балет - ECPv4.0.7//NONSGML v1.0//EN
CALSCALE:GREGORIAN
METHOD:PUBLISH
X-WR-CALNAME:Национална опера и балет
X-ORIGINAL-URL:https://operabalet.mk
X-WR-CALDESC:Events for Национална опера и балет
BEGIN:VEVENT
DTSTART;TZID="Europe/Skopje":20210922T200000
DTEND;TZID="Europe/Skopje":20210922T210000
DTSTAMP:20260423T140553
CREATED:20210902T085400
LAST-MODIFIED:20210917T094824
UID:3184-1632340800-1632344400@operabalet.mk
SUMMARY:„ЛА\, ЛА\, ЛА...“ - балетска претстава (22.9.2021)
DESCRIPTION:\n22.9.2021\, 20:00\n„ЛА\, ЛА\, ЛА...“\nКореограф: Саша Евтимова\nКостимограф: Александар Ношпал\nСветло дизајн: Милчо Александров\nМузика: Драган Ѓаконовски - Шпато\, Дуке Бојаџиев\, Димитар Масевски\nУчествуваат солисти и балетскиот ансамбл при Национална опера и балет\nЖенски ансамбл: Ангела Велевска\, Мила Ниновска\, Христина Наќевска\, Симона Митовска\, Ангела Богатинова\, Бојана Христовска\, Ивана Димкоска\, Меланија Гоцевска\, Мартина Димовска\nМашки ансамбл:Игор Веланоски\, Ендру Кук\, Мирослав Митрашиновиќ\, Агим Бафтии\, Мартин Саздовски\, Кристијан Јангос\, Јан Кисилев\, Никола Орсо\n***************************************\nМодерен балет за оние што сонуваат за среќа и едни времиња во кои живеевме\, луѓето со кои сме ги споделувале тие мигови – ништо не може да го оживее тоа време\, тоа сеќавање\, тој живот освен една стара музичка миксана лента. Секоја миксана лента раскажува една приказна од различно време. Музиката е таа која не води на незаборавни патувања.\nНастанот ќе се одржи според протоколите предвидени со моменталната состојба предизвикана од пандемијата Ковид-19 за одржување настани\, одобрени од Комисијата за заразни болести. \nВлезот е дозволен само со потврда за извршена вакцинација против КОВИД-19  или потврда за прележан КОВИД-19 во последните 45 дена\, сметајќи од денот на оздравувањето.\nЗадолжително е носење на заштитна маска.\n
URL:https://operabalet.mk/event/%d0%bb%d0%b0-%d0%bb%d0%b0-%d0%bb%d0%b0-%d0%b1%d0%b0%d0%bb%d0%b5%d1%82%d1%81%d0%ba%d0%b0-%d0%bf%d1%80%d0%b5%d1%82%d1%81%d1%82%d0%b0%d0%b2%d0%b0-22-9-2021-%d0%bf%d0%bb%d0%b0/
LOCATION:Array
CATEGORIES:балет
ATTACH;FMTTYPE=image/jpeg:https://operabalet.mk/wp-content/uploads/2017/05/lalala.jpg
END:VEVENT
END:VCALENDAR