BEGIN:VCALENDAR
VERSION:2.0
PRODID:-//Национална опера и балет - ECPv4.0.7//NONSGML v1.0//EN
CALSCALE:GREGORIAN
METHOD:PUBLISH
X-WR-CALNAME:Национална опера и балет
X-ORIGINAL-URL:https://operabalet.mk
X-WR-CALDESC:Events for Национална опера и балет
BEGIN:VEVENT
DTSTART;TZID="Europe/Skopje":20230512T200000
DTEND;TZID="Europe/Skopje":20230512T220000
DTSTAMP:20260423T140553
CREATED:20230410T135442
LAST-MODIFIED:20230506T095027
UID:3752-1683921600-1683928800@operabalet.mk
SUMMARY:„Лебедово езеро“ - П.И.Чајковски (12.5.2023)
DESCRIPTION:\nНАЦИОНАЛНА ОПЕРА И БАЛЕТ\n51 МАЈСКИ ОПЕРСКИ ВЕЧЕРИ\n \nП.И.Чајковски\n„Лебедово езеро“\n12.05.2023\nДиригент: Луис Горелик (Аргентина)\nКореограф: Виктор Јаременко (Украина)\nСценограф: Андреј Злобин (Украина)\nКостимограф: Гана Ипатиева (Украина)\nРепетитори: Горан Божинов\, Александра Мијалкова\, Васил Чичиашвили\,\nБилјана Пашариковска\, Наташа Јосифовска\, Дафина Данилоска - Кочевска\nКонцерт мајстор: Климен Тодороски\nСветло дизајн: Милчо Александров\nНАСТАПУВААТ:\nОдета / Одилија: Елизабета Форменто (Италија)\nПринц Зигфрид: Томас Гиуговаз (Италија)\nРотбарт:  Балаш Лочеи (Унгарија)\nНастапува балетскиот ансамбл и оркестарот на Националната опера и балет
URL:https://operabalet.mk/event/%d0%bb%d0%b5%d0%b1%d0%b5%d0%b4%d0%be%d0%b2%d0%be-%d0%b5%d0%b7%d0%b5%d1%80%d0%be-%d0%bf-%d0%b8-%d1%87%d0%b0%d1%98%d0%ba%d0%be%d0%b2%d1%81%d0%ba%d0%b8-12-5-2023/
LOCATION:Array
CATEGORIES:балет
ATTACH;FMTTYPE=image/jpeg:https://operabalet.mk/wp-content/uploads/2023/04/swan_lake_slide.jpg
END:VEVENT
END:VCALENDAR