BEGIN:VCALENDAR
VERSION:2.0
PRODID:-//Национална опера и балет - ECPv4.0.7//NONSGML v1.0//EN
CALSCALE:GREGORIAN
METHOD:PUBLISH
X-WR-CALNAME:Национална опера и балет
X-ORIGINAL-URL:https://operabalet.mk
X-WR-CALDESC:Events for Национална опера и балет
BEGIN:VEVENT
DTSTART;TZID="Europe/Skopje":20220318T200000
DTEND;TZID="Europe/Skopje":20220318T223000
DTSTAMP:20260423T153417
CREATED:20220228T095543
LAST-MODIFIED:20220302T094728
UID:3428-1647633600-1647642600@operabalet.mk
SUMMARY:ЛУЧИЈА ОД ЛАМЕРМУР - Гаетано Доницети (18.3.2022)
DESCRIPTION:\nДиригент: Иван Еминовиќ\nРежисер / Сценограф: Лев Пулиезе(Италија)\nКостимограф: Марија Пупучевска\nАсс. костимограф: Марта Трендафилова\nАсс. режисер: Tрајко Јордановски\, Љупка Јакимовска\nАсс. хор-мајстор: Ѓурѓица Дашиќ\, Јасмина Ѓорѓеска\nКонцерт-мајстор:\nКорепетитори: Елена Сиљаноска\,Јанинка Невчева\, Андреја Наунов\, Јордан Петрушевски\nИнспициенти: Љупчо Полизов\, Драган Костадиновиќ\, Марко Павлевски\nСуфлери: Павлина Здравкова\, Невена Георгиева\nНАСТАПУВААТ:\nЛучија: Ана Дурловски\nЕнрико: Марјан Јованоски\nЕдгардо: Благој Нацоски\nАртуро: Никола Стојчески\nРајмондо: Алесандро Абис (Италија)\nАлиза: Марика Поповиќ\nНормано: Јане Дунимаглоски
URL:https://operabalet.mk/event/%d0%bb%d1%83%d1%87%d0%b8%d1%98%d0%b0-%d0%be%d0%b4-%d0%bb%d0%b0%d0%bc%d0%b5%d1%80%d0%bc%d1%83%d1%80-%d0%b3%d0%b0%d0%b5%d1%82%d0%b0%d0%bd%d0%be-%d0%b4%d0%be%d0%bd%d0%b8%d1%86%d0%b5%d1%82%d0%b8-18-3-2/
LOCATION:Array
CATEGORIES:опера
ATTACH;FMTTYPE=image/jpeg:https://operabalet.mk/wp-content/uploads/2016/09/lucia-web.jpg
END:VEVENT
END:VCALENDAR