BEGIN:VCALENDAR
VERSION:2.0
PRODID:-//Национална опера и балет - ECPv4.0.7//NONSGML v1.0//EN
CALSCALE:GREGORIAN
METHOD:PUBLISH
X-WR-CALNAME:Национална опера и балет
X-ORIGINAL-URL:https://operabalet.mk
X-WR-CALDESC:Events for Национална опера и балет
BEGIN:VEVENT
DTSTART;TZID="UTC+0":20181104T200000
DTEND;TZID="UTC+0":20181104T220000
DTSTAMP:20260424T031829
CREATED:20181017T104208
LAST-MODIFIED:20181025T070619
UID:1910-1541361600-1541368800@operabalet.mk
SUMMARY:„Марија Калас - Час“ - Теренс Мекнели (04.11.2018\, мала сцена на МОБ)
DESCRIPTION:\n\n*Претставата е во рамките на фестивалот „Есенски музички свечености“ 2018\n\n„Марија Калас – Час“ е драма\, напишана од американскиот писател Теренс Мекнели во 1995год \, презентирана како фиктивен мастерклас од оперската пејачка Марија Калас\, пред крај на нејзиниот живот во 70-тите години. Застапени се инсерти од музиката на Џузепе Верди\, Џакомо Пучини\, и Винченцо Белини. Драмата за прв пат е изведена на Бродвеј 1995год. со ѕвездите Зое Колдвел и Одра Мекдоналд.\n\nОперската дива Марија Калас\, гламурозна\, смртно сериозна од една страна и со доза на сув хумор од друга\, држи час по пеење во реномираниот универзитет „Џулиард Скул“во Њујорк. Зависно од настапот на студентите и моменталното расположение\, повикано од сеќавањето на сопствениот живот\, се однесува потполно непредвидливо.Вклучувајќи ги нејзините инспирации\, стравот да не биде „грдото пајче“\, омразата кон нејзините конкурентки\, притисокот на првите претстави\, триумфот во „Ла Скала“\, како и нејзината афера со Аристотел Оназис\, кулминира со монолог за нејзиното саможртвување во името на уметноста.\n\nВо 1996 год. претставата беше наградена со „Драма Деск Авард“ за најдобра нова драма и „Тони Авард“ за најдобра драма.\n\nРежија и превод: Урсула Хорнер\nИзбор на костими: Марија Пупучевска\nГрафички дизајн: Марија Ветероска\nСветло дизајн: Васко Лисичов\n\nНАСТАПУВААТ:\nМарија Калас: Надежда Рубен\nКорепетитор: Андреја Наунов\nСофи де Палма: Марија Наумовска\nШерон Грехем: Александра Лазаревска Василев\nАнтони Кандолино: Влатко Груевски\nДекоратер: Зоран Данилов\n\n 
URL:https://operabalet.mk/event/%d0%bc%d0%b0%d1%80%d0%b8%d1%98%d0%b0-%d0%ba%d0%b0%d0%bb%d0%b0%d1%81-%d1%87%d0%b0%d1%81-%d1%82%d0%b5%d1%80%d0%b5%d0%bd%d1%81-%d0%bc%d0%b5%d0%ba%d0%bd%d0%b5%d0%bb%d0%b8-04-11-2018/
LOCATION:Бул. Гоце Делчев бр. 4\, Скопје\, Macedonia
CATEGORIES:опера
ATTACH;FMTTYPE=image/jpeg:https://operabalet.mk/wp-content/uploads/2017/03/Maria-Cala1s.jpg
END:VEVENT
END:VCALENDAR