BEGIN:VCALENDAR
VERSION:2.0
PRODID:-//Национална опера и балет - ECPv4.0.7//NONSGML v1.0//EN
CALSCALE:GREGORIAN
METHOD:PUBLISH
X-WR-CALNAME:Национална опера и балет
X-ORIGINAL-URL:https://operabalet.mk
X-WR-CALDESC:Events for Национална опера и балет
BEGIN:VEVENT
DTSTART;TZID="Europe/Skopje":20220511T200000
DTEND;TZID="Europe/Skopje":20220511T230000
DTSTAMP:20260423T173210
CREATED:20220418T115505
LAST-MODIFIED:20220509T104101
UID:3461-1652299200-1652310000@operabalet.mk
SUMMARY:„НОРМА“ - Винченцо Белини - ПРЕМИЕРА (11.5.2022)
DESCRIPTION:\n50 МАЈСКИ ОПЕРСКИ ВЕЧЕРИ\n Винченцо Белини\n „НОРМА“\nПРЕМИЕРА\n 11.5.2022\, 20 часот\nДиригент: Енрико Довико (Италија)\nРежисер: Ренато Бонајуто (Италија)\nАсс.режисер: Тереза Гаргано (Италија)\nСценограф и костимограф: Флавио Арбети (Италија)\nКоавтор на костимите: Марија Пупучевска\nСветло дизајн: Милчо Александров\nХор-мајстор: Ѓурѓица Дашиќ\, Јасмина Ѓорѓеска\nАсс.режисер: Tрајко Јордановски\, Љупка Јакимовска\nАсс.диригент: Катерина Стојковска\nАсс. костимограф: Ангела Богевска\nКонцерт-мајстор: Верица Ламбевска\nВокал тренер: Пелагија Чернева Панајотова\nКорепетитори: Елена Сиљаноска\,Јанинка Невчева\, Андреја Наунов\, Јордан Петрушевски\nИнспициенти: Љупчо Полизов\, Драган Костадиновиќ\, Марко Павлевски\nСуфлери: Павлина Здравкова\, Невена Георгиева\nНастапуваат:\nНорма: Благица Поп Томова\nПолионе: Ѓорѓи Цуцковски\nАдалџиза: Николина Јаневска\nОровезо: Иван Томашев (Србија)\nКлотилде: Марика Поповиќ\nФлавио: Дејан Стоев\nДеца: Василиј и Стефан Дашиќ\nНастапуваат хорот и оркестарот наНационалната опера и балет\nСинопсис\nЧин I\nДруидите\, предводени од нивниот поглавар Оровезо\, се молат на нивниот бог Ирминсул да ја инспирира ќерката на Оровесо\, Норма\, да сигнализира бунт против окупаторските римски сили.\nПолионе\, римскиот проконзул\, му признава на својот соработник Флавио дека неговата љубов кон Норма се оладила\, иако таа му родила две деца. Новиот предмет на неговата желба е Адалџиза\, свештеничка во храмот Ирминсул. Тој се плаши од гневот на Норма кога таа дознава за неговото предавство и го опишува неговиот застрашувачки сон за иднината со Адалџиза.\nДруидите повторно се собираат\, желни за акција против нивните угнетувачи. Норма е иритирана од нивната нетрпеливост\, велејќи им дека ова не е време за одмазда. Тајно\, таа признава дека\, иако има моќ да го казни Полионе за неговото заминување од неа\, таа би го бранела со својот живот доколку тој се врати кај неа.\nАдалџиза и Полионе се среќаваат сами. Адалџиза вели дека решила да го напушти Полионе и да се врати во нејзиниот храм. Тој вели дека во зори заминува за Рим и ја притиска да му се придружи.\nНорма е вознемирена\, растргната помеѓу љубовта и омразата кон Полионе и нејзините деца од негова страна. Таа дознала дека тој е повикан во Рим\, но на својата доверлива Клотилде и признава дека не е сигурна дали тој ќе ја земе со себе или не.\nСо голем страв\, Адалџиза и признава на Норма дека се заљубила и на тој начин ги изневерила своите свети завети. Несвесна на почетокот за идентитетот на љубовникот на Адалџиза\, Норма е сочувствителна со нејзината мака: приказната што Адалџиза ја раскажува за текот на нејзината љубов буди убави спомени кај Норма од раните денови на нејзината сопствена врска со Полионе. Таа ѝ дава прошка на Адалџиза и ја ослободува од заветите.\nКога Норма дознава дека  Адалџиза е онаа која што Полионе ја сака\, Норма го испушта својот гнев - не на Адалџиза\, туку на Полионе. Адалџиза е згрозена од перфидноста на Полионе и\, и покрај нејзината мака\, таа се заколнува дека ќе го врати Полионе кај Норма и нивните деца. Додека Норма е повикана во олтарот\, Адалџиза го предупредува Полионе дека гласот на Ирминсул ја одѕвонува неговата смрт. Полионе е пркосен.\nЧин II\nНорма\, во својата мака и очај\, размислува да ги убие своите деца. Но\, обземена од љубовта кон нив\, таа се предомислува од чинот. Наместо тоа\, таа решава да се искупи за своите гревови така што ќе си го одземе животот\, чистејќи ја земјата од своето постоење. Таа ги доверува своите деца на грижата на Адалџиза со инструкциите да ги однесе во римскиот логор и\, заради иднината на децата\, да го прифати Полионе за свој сопруг. Но\, Адалџиза се обидува да ја убеди дека сè уште може да заврши добро: таа ќе оди во кампот и ќе го убеди Полионе да се врати кај Норма. На крајот\, Норма попушта и го прифаќа предлогот на Адалџиза.\nДруидите го чекаат своето време\, чекајќи го заминувањето на Полионе. Оровезо носи вознемирувачки вести: следниот проконзул ќе биде уште посуров од Полионе. Во отсуство на збор од Норма\, бунтот мора да се запре.\nНорма се обидува да се убеди себеси дека Полионе ќе и се врати\, но Клотилде има вест што ги урива таквите илузии: мисијата на Адалџиза пропаѓа. Конечно\, Норма го крева својот народ во војна\, изјавувајќи дека моќниот римски орел ќе биде уништен. Сега се бара само жртвување на жртва. Клотилде известува дека храмот бил осквернавен од еден Римјанин кој бил заробен во светиот манастир на девиците. Тоа е Полионе.\nОровезо и друидите ја поттикнуваат Норма да го урне Полионе\, но таа не може да се натера да го стори тоа. Отфрлајќи ги другите\, таа му вели дека ќе му го поштеди животот ако се заколне дека ќе се откаже од Адалџиза. Тој одбива и ѝ кажува на Норма дека е подготвен да умре. Таа му вели дека не само што ќе умре\, туку и дека сите Римјани ќе бидат заклани - а исто така и Адалџиза\, која мора да загине во огнот затоа што ги прекршила нејзините завети. Полионе ја моли Норма да се смилува на Адалџиза\, без оглед на неговата судбина.\nНорма ги повикува друидите и објавува нова жртвена жртва: свештеничка која ги прекршила своите свети завети\, предавајќи го својот народ и боговите. Таа им наложува на свештениците да ја подготват погребната клада. Жртвата е таа самата.\nГледајќи ја нејзината жртва\, љубовта на Полионе кон Норма повторно се разгорува. Тој најавува дека ќе умре со неа и бара прошка. Оровезо се откажува од својата ќерка\, а Норма го моли да се смилува на нејзините деца. Заедно\, Норма и Полионе одат на кладата.\n 
URL:https://operabalet.mk/event/%d0%bd%d0%be%d1%80%d0%bc%d0%b0-%d0%b2%d0%b8%d0%bd%d1%87%d0%b5%d0%bd%d1%86%d0%be-%d0%b1%d0%b5%d0%bb%d0%b8%d0%bd%d0%b8/
LOCATION:Array
CATEGORIES:опера
ATTACH;FMTTYPE=image/jpeg:https://operabalet.mk/wp-content/uploads/2022/04/NORMA-MKD-002.jpg
END:VEVENT
END:VCALENDAR