BEGIN:VCALENDAR
VERSION:2.0
PRODID:-//Национална опера и балет - ECPv4.0.7//NONSGML v1.0//EN
CALSCALE:GREGORIAN
METHOD:PUBLISH
X-WR-CALNAME:Национална опера и балет
X-ORIGINAL-URL:https://operabalet.mk
X-WR-CALDESC:Events for Национална опера и балет
BEGIN:VEVENT
DTSTART;TZID="UTC+0":20210629T200000
DTEND;TZID="UTC+0":20210629T211500
DTSTAMP:20260423T124137
CREATED:20210628T075728
LAST-MODIFIED:20210628T075933
UID:3116-1624996800-1625001300@operabalet.mk
SUMMARY:Онлајн премиера - „Игри на животот“ (29.6.2021)
DESCRIPTION:\nДраги љубители на оперската и балетска уметност\,\nВо вторник\, 29.6.2021 со почеток во 20.00 часот на официјалниот YouTube канал на Националната опера и балет ќе имате можност да ја проследите онлајн премиерата на музичко-сценското дело „Игри на животот“\nЛинк до настанот---->\n„Игри на животот“ - премиера\n29.06.2021\, 20 часот\, Официјалната јутјуб страница на Национална опера и балет\nГлавната тема-идеја на проектот е Љубовта\, прикажана низ делата на\nХендл\, Персел\, Рамо и Бах\nИдеја: Татијана Петрушевска- прва обоа во Национална опера и балет\nДиригент : Иван Еминовиќ\nРежисер: Љупка Јакимовска\nКонцерт мајстор: Климент Тодороски\nКореограф: Саша Евтимова\nСценографија: Марија Ветероска\nКостимограф: Ангела Богевска\nСветло дизајн: Милчо Александров\nВизуена мултимедија : Емил Пачковски и Дарко Даутовиќ\nИспициенти: Љупчо Полизов\, Драган Костадиновиќ\, Марко Павлевски\nСолисти :\nБилјана Јосифов – сопран\nДраган Ампов – баритон\nОркестар:\nКлимент Тодороски\, Јане Бакевски – виолини\nМарија Георгиева – виола\nКирил Јосифов – виолончело\nМитко Иванов – контрабас\nМарија Јакимовска – флејта / пиколо\nТатијана Петрушевска \, Ѓорѓи Петрушевски – обои\nМарјан Милошевски – фагот\nТеодор Теодосиевски – ударни инструменти\nБалет:\nEндру Кук - Англија\nБaлаж Лaшеи - Унгарија\nМартина Димовска\nПрограма:\n1.Увертира (G.Fr.Handel “Salomon” The arrival of the Queen of Sheba III act)\n2.J.S.Bach Kantate Nr.202 “Weichet nur\, betrübte Schatten”\n3.H.Purcel”The Fairy Queen”- Оркестарска суита\n4.J.Ph.Rameau “Les Indes Galantes” -Оркестарска суита
URL:https://operabalet.mk/event/%d0%be%d0%bd%d0%bb%d0%b0%d1%98%d0%bd-%d0%bf%d1%80%d0%b5%d0%bc%d0%b8%d0%b5%d1%80%d0%b0-%d0%b8%d0%b3%d1%80%d0%b8-%d0%bd%d0%b0-%d0%b6%d0%b8%d0%b2%d0%be%d1%82%d0%be%d1%82-29-6-2021/
LOCATION:Array
CATEGORIES:концерт,опера
ATTACH;FMTTYPE=image/jpeg:https://operabalet.mk/wp-content/uploads/2021/05/igri-na-zivotot_web.jpg
END:VEVENT
END:VCALENDAR