BEGIN:VCALENDAR
VERSION:2.0
PRODID:-//Национална опера и балет - ECPv4.0.7//NONSGML v1.0//EN
CALSCALE:GREGORIAN
METHOD:PUBLISH
X-WR-CALNAME:Национална опера и балет
X-ORIGINAL-URL:https://operabalet.mk
X-WR-CALDESC:Events for Национална опера и балет
BEGIN:VEVENT
DTSTART;TZID="Europe/Skopje":20221210T120000
DTEND;TZID="Europe/Skopje":20221210T130000
DTSTAMP:20260423T222326
CREATED:20221125T144641
LAST-MODIFIED:20221129T132357
UID:3641-1670673600-1670677200@operabalet.mk
SUMMARY:ОПЕРАТА НА ШУМСКИТЕ ЖИВОТНИ - мала сцена (10.12.2022 -12:00 часот )
DESCRIPTION:\nОПЕРАТА НА ШУМСКИТЕ ЖИВОТНИ\n( ДЕТСКА ИНТЕРАКТИВНА МУЗИЧКА ПРЕТСТАВА)\nЦелна група: деца од 06–11 години\nВреме траење на претставата: 1 час\nИдеен концепт\, сценарио и режија: Десанка Глигоријевиќ\n Костимографија и сценографија: Десанка Глигоријевиќ\n Инспициент : Драган Костадиновиќ\nСветло мајстор:Нино Митевски\n Тон мајстор: Божидар Илијоски\, Драги Димитровски\nНастапуваат:\n Лиска - Надежда Рубен (оперски пејач)\n Меца - Марика Поповиќ (оперски пејач)\n Зајко - Јане Дунимаглоски / Дејан Стоев (оперски пејач)\n Був – Невен Силјановски (оперски пејач и пијанист)\nИнтерактивна музичко - драмска претстава која има за цел да ја запознае/едуцира најмладата публика\, примарно со поимите во однос на оперската уметност (композитор\, режисер\, солисти\, хор ...)\nСценариото изобилува со многу комични моменти\, кои се случуваат додека шумските животни се обидуваат да создадат оперска претстава.\nМузичкиот дел е исполнет со адаптирани популарни арии од оперите: Кармен\, Паљачи\, Аида\, Травјата\, Рита и многу други арии и инструментални композиции кои се со адаптиран текст во својство на сценариото.
URL:https://operabalet.mk/event/%d0%be%d0%bf%d0%b5%d1%80%d0%b0%d1%82%d0%b0-%d0%bd%d0%b0-%d1%88%d1%83%d0%bc%d1%81%d0%ba%d0%b8%d1%82%d0%b5-%d0%b6%d0%b8%d0%b2%d0%be%d1%82%d0%bd%d0%b8-%d0%bc%d0%b0%d0%bb%d0%b0-%d1%81%d1%86%d0%b5%d0%bd/
LOCATION:Array
ATTACH;FMTTYPE=image/jpeg:https://operabalet.mk/wp-content/uploads/2021/06/shumski_zivotni.jpg
END:VEVENT
END:VCALENDAR