BEGIN:VCALENDAR
VERSION:2.0
PRODID:-//Национална опера и балет - ECPv4.0.7//NONSGML v1.0//EN
CALSCALE:GREGORIAN
METHOD:PUBLISH
X-WR-CALNAME:Национална опера и балет
X-ORIGINAL-URL:https://operabalet.mk
X-WR-CALDESC:Events for Национална опера и балет
BEGIN:VEVENT
DTSTART;TZID="UTC+0":20200925T210000
DTEND;TZID="UTC+0":20200925T220000
DTSTAMP:20260423T182516
CREATED:20200918T121128
LAST-MODIFIED:20200919T222740
UID:2807-1601067600-1601071200@operabalet.mk
SUMMARY:„Опера и балет под ѕвездите“ - гала оперски концерт и балетска претстава „Болеро“
DESCRIPTION:\n\nПо пауза од неколку месеци поради глобалната пандемија предизвикана од коронавирусот\, Националната опера и балет ќе одржи ексклузивен гала оперски концерт и балетска претстава на отворено под ѕвездите\, насловен како „Опера и балет под ѕвездите“.\n\n \n\n \n\nНа 25.9.2020 со почеток во 21.00 ч. на платото пред Националната опера и балет \n\n(Плоштад „Мајка Тереза“) ќе се одржи ексклузивен оперски гала концерт со солистите: Сандра Митровска (сопран)\, Катерина Стојановска (сопран)\, Ѓорѓи Цуцковски (тенор) и Владимир Саздовски (бас)\, во придружба на Оркестарот при Националната опера и балет\, под диригентската палка на Бисера Чадловска.\n\nВо вториот дел\, публиката ќе има можност да го проследи балетот „Болеро“ од Морис Равел\, во кореографија на Саша Евтимова\, подготвена во согласност со препораките на Комисијата за заразни болести. Тоа е балет под маски\, без допир и на дистанца.\n\nНастапува: Женски балетски ансамбл\, Катерина Стојановска  - сопран и Оркестарот на Националната опера и балет. Диригент: Бисера Чадловска\n\nКонцерт мајстор: Верица Ламбевска\nКореограф: Саша Евтимова\nРежисер: Дејан Прошев\nКостимограф: Марија Пупучевска\nСветло дизајн:  Милчо Александров\n\n \n\nНАПОМЕНА: Влезот за публиката ќе биде отворен во 20.30 ч.\, почеток на настанот е 21.00 ч. Билетите се во строго ограничен број\, а седиштата се на раздалеченост од 2  метри.\n\nНастанот ќе се одржи според протоколите предвидени со моменталната состојба предизвикана од пандемијата Ковид-19  за одржување настани на отворено\, одобрени од Комисијата за заразни болести.\n\nЗадолжително е носење на заштитна маска.\n\nВе молиме\, почитувајте ги мерките за заштита.
URL:https://operabalet.mk/event/%d0%be%d0%bf%d0%b5%d1%80%d0%b0-%d0%b8-%d0%b1%d0%b0%d0%bb%d0%b5%d1%82-%d0%bf%d0%be%d0%b4-%d1%95%d0%b2%d0%b5%d0%b7%d0%b4%d0%b8%d1%82%d0%b5-%d0%b3%d0%b0%d0%bb%d0%b0-%d0%be%d0%bf%d0%b5/
LOCATION:Array
CATEGORIES:балет,опера
ATTACH;FMTTYPE=image/jpeg:https://operabalet.mk/wp-content/uploads/2020/09/охридско-лето1-1024x540.jpg
END:VEVENT
END:VCALENDAR