BEGIN:VCALENDAR
VERSION:2.0
PRODID:-//Национална опера и балет - ECPv4.0.7//NONSGML v1.0//EN
CALSCALE:GREGORIAN
METHOD:PUBLISH
X-WR-CALNAME:Национална опера и балет
X-ORIGINAL-URL:https://operabalet.mk
X-WR-CALDESC:Events for Национална опера и балет
BEGIN:VEVENT
DTSTART;TZID="Europe/Skopje":20230701T210000
DTEND;TZID="Europe/Skopje":20230701T220000
DTSTAMP:20260423T100301
CREATED:20230608T130034
LAST-MODIFIED:20230614T064615
UID:3805-1688245200-1688248800@operabalet.mk
SUMMARY:Оперски концерт во рамките на „Скопско лето“  (1.7.2023 - 21.00ч.)
DESCRIPTION:\nОперски концерт во рамките на Скопско лето - 21.00ч.\n(салон на Национална опера и балет)\nУчесвуваат солистите и оркестарот при НУ Национална опера и балет\nДиригент: Реваз Јавакшвили – Грузија\n
URL:https://operabalet.mk/event/%d0%be%d0%bf%d0%b5%d1%80%d1%81%d0%ba%d0%b8-%d0%ba%d0%be%d0%bd%d1%86%d0%b5%d1%80%d1%82-%d0%b2%d0%be-%d1%80%d0%b0%d0%bc%d0%ba%d0%b8%d1%82%d0%b5-%d0%bd%d0%b0-%d1%81%d0%ba%d0%be%d0%bf%d1%81%d0%ba%d0%be/
LOCATION:Array
CATEGORIES:концерт
ATTACH;FMTTYPE=image/gif:https://operabalet.mk/wp-content/uploads/2016/02/03.gif
END:VEVENT
END:VCALENDAR