BEGIN:VCALENDAR
VERSION:2.0
PRODID:-//Национална опера и балет - ECPv4.0.7//NONSGML v1.0//EN
CALSCALE:GREGORIAN
METHOD:PUBLISH
X-WR-CALNAME:Национална опера и балет
X-ORIGINAL-URL:https://operabalet.mk
X-WR-CALDESC:Events for Национална опера и балет
BEGIN:VEVENT
DTSTART;TZID="UTC+0":20210624T210000
DTEND;TZID="UTC+0":20210624T214500
DTSTAMP:20260423T123633
CREATED:20210614T084125
LAST-MODIFIED:20210624T081739
UID:3103-1624568400-1624571100@operabalet.mk
SUMMARY:Оперски рецитал  (24.6.2021 - Плоштад „Мајка Тереза“)
DESCRIPTION:\nОперски рецитал на солистите на Национална опера и балет\n24.06.2021\, Плоштад „Мајка Тереза“ -пред влезот на Национална опера и балет\, 21 часот\nРежисер: Трајко Јордановски\nИспициенти: Љупчо Полизов\, Драган Костадиновиќ\, Марко Павлевски\nНастапуваат:\nАлександра Лазаревска Василевски- сопран\nАна Ројдева-сопран\nСоња Пендовска Мадевска –алт\nМарјан Николовски- тенор\nПијано придружба: Елена Сиљаноска\n\nПрограма:\n\n1.Ф.Лехар арија на Џудита од оперета „Џудита“\nИсполнува: Ана Ројдева - Талевска\n2.Наполитанска песна „Santa Lucia“\nИсполнуваат: Соња Пендовска-Мадевска и Марјан Николовски\n3.Ф.Менделсон дует - „Есенска песна“\nИсполнуваат: Александра Лазаровска - Василевски и Ана Ројдева - Талевска\n4.Ф. П. Тости - „Non t'amo piu!“\nИсполнува: Марјан Николовски\n5.Ж. Офенбах - „Баркарола“ од операта „Хофманови приказни“\nИсполнуваат: Александра Лазаровска - Василевски и Соња Пендовска-Мадевска\n6.Е.Куртис - „Non ti scordar di me“\nИсполнуваат: Ана Ројдева - Талевска и Марјан Николовски\n7.Р. Леонкавало арија на Неда од операта Палјачи\nИсполнува: Александра Лазаровска - Василевски\n8.Ж.Бизе Хабанера од операта „Кармен“\nИсполнува: Соња Пендовска-Мадевска\n9.Л.Делиб дует на Лакме и Малика од операта „Лакме“\nИсполнуваат: Александра Лазаровска - Василевски и Ана Ројдева - Талевска\n10.В. Соловјов - Седој „Московски ноќи“\nИсполнуваат: Соња Пендовска-Мадевска\, Марјан Николовски\, Александра Лазаровска - Василевски и Ана Ројдева - Талевска
URL:https://operabalet.mk/event/%d0%be%d0%bf%d0%b5%d1%80%d1%81%d0%ba%d0%b8-%d1%80%d0%b5%d1%86%d0%b8%d1%82%d0%b0%d0%bb-24-6-2021-%d0%bf%d0%bb%d0%be%d1%88%d1%82%d0%b0%d0%b4-%d0%bc%d0%b0%d1%98%d0%ba%d0%b0-%d1%82%d0%b5/
LOCATION:Array
CATEGORIES:концерт
ATTACH;FMTTYPE=image/jpeg:https://operabalet.mk/wp-content/uploads/2020/12/cover-majskii2..jpg
END:VEVENT
END:VCALENDAR