BEGIN:VCALENDAR
VERSION:2.0
PRODID:-//Национална опера и балет - ECPv4.0.7//NONSGML v1.0//EN
CALSCALE:GREGORIAN
METHOD:PUBLISH
X-WR-CALNAME:Национална опера и балет
X-ORIGINAL-URL:https://operabalet.mk
X-WR-CALDESC:Events for Национална опера и балет
BEGIN:VEVENT
DTSTART;TZID="Europe/Skopje":20241226T180000
DTEND;TZID="Europe/Skopje":20241226T200000
DTSTAMP:20260423T111418
CREATED:20241217T093337
LAST-MODIFIED:20241217T093944
UID:4361-1735236000-1735243200@operabalet.mk
SUMMARY:ОРЕВОКРШАЧКА - Петар Илич Чајковски (26.12.2024)
DESCRIPTION:\nПетар Илич Чајковски\nОРЕВОКРШАЧКА\n26.12.2024 - 18.00 часот\nКореограф: Василиј Иванович Ваинонен (Русија)\nКореографска адаптација: Михаил Крапивин (Русија)\nСценограф: Анатолиј Нежњи (Русија)\nКостимограф: Љупка Ристовска\nРепетитори: Володимир Борисов (Украина)\, Александра Мијалкова\, Горан Божинов\, Дафина Данилоска-Кочевска\, Саша Евтимова\, Марија Јосифовска Ристовска\, Маја Митровска-Богојевска\nВо главните улоги:\nКлара: Марија Кичевска Шокаровска\nПринц: Франциско Хименес Руиз (Шпанија)\nНастапуваат првенците\, солистите\, балетскиот ансамбл при Националната опера и балет и ученици од ДМБУЦ „Илија Николовски Луј“.
URL:https://operabalet.mk/event/%d0%be%d1%80%d0%b5%d0%b2%d0%be%d0%ba%d1%80%d1%88%d0%b0%d1%87%d0%ba%d0%b0-%d0%bf%d0%b5%d1%82%d0%b0%d1%80-%d0%b8%d0%bb%d0%b8%d1%87-%d1%87%d0%b0%d1%98%d0%ba%d0%be%d0%b2%d1%81%d0%ba%d0%b8-26-12-2024-2/
LOCATION:Array
CATEGORIES:балет
ATTACH;FMTTYPE=image/jpeg:https://operabalet.mk/wp-content/uploads/2017/01/orevokrshacka.jpg
END:VEVENT
END:VCALENDAR