BEGIN:VCALENDAR
VERSION:2.0
PRODID:-//Национална опера и балет - ECPv4.0.7//NONSGML v1.0//EN
CALSCALE:GREGORIAN
METHOD:PUBLISH
X-WR-CALNAME:Национална опера и балет
X-ORIGINAL-URL:https://operabalet.mk
X-WR-CALDESC:Events for Национална опера и балет
BEGIN:VEVENT
DTSTART;TZID="Europe/Skopje":20241227T133000
DTEND;TZID="Europe/Skopje":20241227T153000
DTSTAMP:20260423T100332
CREATED:20241217T093548
LAST-MODIFIED:20241217T093850
UID:4362-1735306200-1735313400@operabalet.mk
SUMMARY:ОРЕВОКРШАЧКА - Петар Илич Чајковски (27.12.2024)
DESCRIPTION:\nПетар Илич Чајковски\nОРЕВОКРШАЧКА\n27.12.2024 - 13.30 часот\nКореограф: Василиј Иванович Ваинонен (Русија)\nКореографска адаптација: Михаил Крапивин (Русија)\nСценограф: Анатолиј Нежњи (Русија)\nКостимограф: Љупка Ристовска\nРепетитори: Володимир Борисов (Украина)\, Александра Мијалкова\, Горан Божинов\, Дафина Данилоска-Кочевска\, Саша Евтимова\, Марија Јосифовска Ристовска\, Маја Митровска-Богојевска\nВо главните улоги:\nКлара: Наташа Трендафилова Гицев\nПринц: Валери Љубенко (Украина)\nНастапуваат првенците\, солистите\, балетскиот ансамбл при Националната опера и балет и ученици од ДМБУЦ „Илија Николовски Луј“.
URL:https://operabalet.mk/event/%d0%be%d1%80%d0%b5%d0%b2%d0%be%d0%ba%d1%80%d1%88%d0%b0%d1%87%d0%ba%d0%b0-%d0%bf%d0%b5%d1%82%d0%b0%d1%80-%d0%b8%d0%bb%d0%b8%d1%87-%d1%87%d0%b0%d1%98%d0%ba%d0%be%d0%b2%d1%81%d0%ba%d0%b8-27-12-2024/
LOCATION:Array
CATEGORIES:балет
ATTACH;FMTTYPE=image/jpeg:https://operabalet.mk/wp-content/uploads/2017/01/orevokrshacka.jpg
END:VEVENT
END:VCALENDAR