BEGIN:VCALENDAR
VERSION:2.0
PRODID:-//Национална опера и балет - ECPv4.0.7//NONSGML v1.0//EN
CALSCALE:GREGORIAN
METHOD:PUBLISH
X-WR-CALNAME:Национална опера и балет
X-ORIGINAL-URL:https://operabalet.mk
X-WR-CALDESC:Events for Национална опера и балет
BEGIN:VEVENT
DTSTART;TZID="Europe/Skopje":20221229T200000
DTEND;TZID="Europe/Skopje":20221229T223000
DTSTAMP:20260423T155720
CREATED:20221107T094612
LAST-MODIFIED:20221213T093803
UID:3623-1672344000-1672353000@operabalet.mk
SUMMARY:ОРЕВОКРШАЧКА - Петар Илич Чајковски (29.12.2022)
DESCRIPTION:\nПетар Илич Чајковски\nОРЕВОКРШАЧКА\n29.12.2022 - 20:oo часот\nКореограф: Василиј Иванович Ваинонен (Русија)\nСценограф: Анатолиј Нежњи (Русија)\nКостимограф: Љупка Ристовска\nРепетитори: Горан Божинов\, Александра Мијалкова\, Наташа Јосифовска\, Билјана Пашариковска\, Дафина Данилоска-Кочевска\nНастапуваат:\nКлара: Мими Поп Алексова Атанасовска\nПринц: Франциско Хименез Руиз (Шпанија)\nМалата Клара: Ела Канер (Турција)\nБрат: Ендру Кук (Велика Британија)\nНАСТАПУВААТ СОЛИСТИ\, БАЛЕТСКИОТ АНСАМБЛ НА НАЦИОНАЛНАТА ОПЕРА И БАЛЕТ И ДЕЦА ОД БАЛЕТСКИОТ ОДДЕЛ ДМБУЦ „ИЛИЈА НИКОЛОВСКИ-ЛУЈ“
URL:https://operabalet.mk/event/%d0%be%d1%80%d0%b5%d0%b2%d0%be%d0%ba%d1%80%d1%88%d0%b0%d1%87%d0%ba%d0%b0-%d0%bf%d0%b5%d1%82%d0%b0%d1%80-%d0%b8%d0%bb%d0%b8%d1%87-%d1%87%d0%b0%d1%98%d0%ba%d0%be%d0%b2%d1%81%d0%ba%d0%b8-29-12-2022/
LOCATION:Array
CATEGORIES:балет
ATTACH;FMTTYPE=image/jpeg:https://operabalet.mk/wp-content/uploads/2017/01/orevokrshacka.jpg
END:VEVENT
END:VCALENDAR