BEGIN:VCALENDAR
VERSION:2.0
PRODID:-//Национална опера и балет - ECPv4.0.7//NONSGML v1.0//EN
CALSCALE:GREGORIAN
METHOD:PUBLISH
X-WR-CALNAME:Национална опера и балет
X-ORIGINAL-URL:https://operabalet.mk
X-WR-CALDESC:Events for Национална опера и балет
BEGIN:VEVENT
DTSTART;TZID="Europe/Skopje":20231229T200000
DTEND;TZID="Europe/Skopje":20231229T220000
DTSTAMP:20260423T100332
CREATED:20230919T122021
LAST-MODIFIED:20231214T163210
UID:3882-1703880000-1703887200@operabalet.mk
SUMMARY:ОРЕВОКРШАЧКА - Петар Илич Чајковски (29.12.2023)
DESCRIPTION:\n29.12.2023\, 20 часот\nПетар Илич Чајковски\nОРЕВОКРШАЧКА\n(балет)\nДиригент: Бисера Чадловска\nКореограф: Василиј Иванович Ваинонен (Русија)\nКореографска адаптација: Михаил Крапивин (Русија)\nСценограф: Анатолиј Нежњи (Русија)\nКостимограф: Љупка Ристовска\nКонцерт мајстор: Климент Тодороски\nНастапуваат:\nКлара: Христина Наќевска\nПринц: Балаж Лочеи (Унгарија)\nНастапуваат првенците\, солистите\, балетскиот ансамбл\, оркестарот при Националната опера и балет и ученици од ДМБУЦ „Илија Николовски Луј“.\n\n \n\n \n\n 
URL:https://operabalet.mk/event/%d0%be%d1%80%d0%b5%d0%b2%d0%be%d0%ba%d1%80%d1%88%d0%b0%d1%87%d0%ba%d0%b0-%d0%bf%d0%b5%d1%82%d0%b0%d1%80-%d0%b8%d0%bb%d0%b8%d1%87-%d1%87%d0%b0%d1%98%d0%ba%d0%be%d0%b2%d1%81%d0%ba%d0%b8-29-12-2023/
LOCATION:Array
CATEGORIES:балет
ATTACH;FMTTYPE=image/jpeg:https://operabalet.mk/wp-content/uploads/2017/01/orevokrshacka.jpg
END:VEVENT
END:VCALENDAR