BEGIN:VCALENDAR
VERSION:2.0
PRODID:-//Национална опера и балет - ECPv4.0.7//NONSGML v1.0//EN
CALSCALE:GREGORIAN
METHOD:PUBLISH
X-WR-CALNAME:Национална опера и балет
X-ORIGINAL-URL:https://operabalet.mk
X-WR-CALDESC:Events for Национална опера и балет
BEGIN:VEVENT
DTSTART;TZID="Europe/Skopje":20260328T193000
DTEND;TZID="Europe/Skopje":20260328T220000
DTSTAMP:20260423T084828
CREATED:20260223T133955
LAST-MODIFIED:20260310T132508
UID:4869-1774726200-1774735200@operabalet.mk
SUMMARY:ОРЕВОКРШАЧКА - П. И. Чајковски - ПРЕМИЕРА (28.3.2026/19.30)
DESCRIPTION:\nПРЕМИЕРА\nПетар Илич Чајковски\nОРЕВОКРШАЧКА\n28.3.2026. 19.30 часот\nБалет во два чина\n“Балетска фантазија за соништата\, спомените и вистините што ги разбираме дури кога ќе пораснеме.”\nДиригент: Едуард Амбарцумјан (Ерменија)\nКореограф: Саша Евтимова\nЛибрето: Саша Евтимова\nСценограф: Марија Ветероска\nКостимограф: Марија Пупучевска\nКонцерт мајстор: Климент Тодоровски\nАсистент кореограф: Дмитро Чеботар\nАсистент кореограф на учениците од балетски оддел: Маја Митровска Богојевска\nНАСТАПУВААТ:\nХристина Наќевска Митрашиновиќ (Шеќерна Вила)\nФранциско Хименез Руиз (Кавалер)\nБалаж Лочеи (Снежен крал)\nНаташа Трендафилова Гицев (Снежна кралица)\nИгор Веланоски (Дроселмаер)\nБобан Ковачевски (Крал на Глувците)\nВеселин Трајкоски (Лукас - Оревокршач)\nГала Кочевска (Клара)\nМарко Мијатовиќ (Фриц)\nУчествуваат истакнати солисти\, солисти и ансамблови играчи\, оркестарот и хорот на Национална Опера и Балет и ученици од основен оддел балет од ДМБУЦ „Илија Николовски - Луј“
URL:https://operabalet.mk/event/%d0%be%d1%80%d0%b5%d0%b2%d0%be%d0%ba%d1%80%d1%88%d0%b0%d1%87%d0%ba%d0%b0-%d0%bf-%d0%b8-%d1%87%d0%b0%d1%98%d0%ba%d0%be%d0%b2%d1%81%d0%ba%d0%b8-%d0%bf%d1%80%d0%b5%d0%bc%d0%b8%d0%b5%d1%80%d0%b0-28/
LOCATION:Array
CATEGORIES:балет
ATTACH;FMTTYPE=image/jpeg:https://operabalet.mk/wp-content/uploads/2026/02/WEB-orevokrsacka-banner.jpg
END:VEVENT
END:VCALENDAR