BEGIN:VCALENDAR
VERSION:2.0
PRODID:-//Национална опера и балет - ECPv4.0.7//NONSGML v1.0//EN
CALSCALE:GREGORIAN
METHOD:PUBLISH
X-WR-CALNAME:Национална опера и балет
X-ORIGINAL-URL:https://operabalet.mk
X-WR-CALDESC:Events for Национална опера и балет
BEGIN:VEVENT
DTSTART;TZID="Europe/Skopje":20220401T200000
DTEND;TZID="Europe/Skopje":20220401T210000
DTSTAMP:20260423T111310
CREATED:20220328T075016
LAST-MODIFIED:20220328T075224
UID:3453-1648843200-1648846800@operabalet.mk
SUMMARY:Отворање на фестивалот „Денови на македонска музика 2022“ (01.04.2022)
DESCRIPTION:\nДиригент: Вања Николовски-Ѓумар\nКонцерт: мајстор: Климент Тодороски\nХор мајстор: Јасмина Ѓорѓеска\nАсс. диригент Андреја Наунов\nИнспициенти: Љупчо Полизов\, Драган Костадиновиќ\, Марко Павлевски\nПрограма:\nСтојче Тошевски\nМАДРИГАЛИ - за солисти\, мешан хор и оркестар (1972)\nКатерина Стојановска - сопран             \nНикола Стојчевски - тенор\nЉупчо Константинов\nКАЛЕШ АНЃО - за обоа и симфониски оркестар (1991)\nТатиана Петрушевска – Караскаковска - обоа\nТодор Трајчевски\nМОРИ ЧУПИ КОСТУРЧАНКИ - за тенор и симфониски оркестар (2013)\nНикола Стојчевски - тенор\nДраган Даутовски\nКУМАНОВКА- за гајда\, тапан и оркестар (2013)\nДраган Даутовски – гајда и Ратко Даутовски – тапан\nТодор Скаловски\nБАЛТЕПЕ (IV и V став) - за мешан хор\, дувачки ансамбл и удиралки (1960-1974)\nНастапуваат хорот и оркестарот на Националната опера и балет\n \n\n 
URL:https://operabalet.mk/event/%d0%be%d1%82%d0%b2%d0%be%d1%80%d0%b0%d1%9a%d0%b5-%d0%bd%d0%b0-%d1%84%d0%b5%d1%81%d1%82%d0%b8%d0%b2%d0%b0%d0%bb%d0%be%d1%82-%d0%b4%d0%b5%d0%bd%d0%be%d0%b2%d0%b8-%d0%bd%d0%b0-%d0%bc%d0%b0%d0%ba/
LOCATION:Array
CATEGORIES:концерт
ATTACH;FMTTYPE=image/jpeg:https://operabalet.mk/wp-content/uploads/2020/09/orkestar-efekt.jpg
END:VEVENT
END:VCALENDAR