BEGIN:VCALENDAR
VERSION:2.0
PRODID:-//Национална опера и балет - ECPv4.0.7//NONSGML v1.0//EN
CALSCALE:GREGORIAN
METHOD:PUBLISH
X-WR-CALNAME:Национална опера и балет
X-ORIGINAL-URL:https://operabalet.mk
X-WR-CALDESC:Events for Национална опера и балет
BEGIN:VEVENT
DTSTART;TZID="Europe/Skopje":20211002T200000
DTEND;TZID="Europe/Skopje":20211002T212000
DTSTAMP:20260423T170630
CREATED:20210902T092948
LAST-MODIFIED:20210920T110141
UID:3197-1633204800-1633209600@operabalet.mk
SUMMARY:„ПАЛЈАЧИ“ - Руџеро Леонкавало-гостување во Битола(2.10.2021)
DESCRIPTION:Руџеро Леонкавало\n„ПАЛЈАЧИ“\n(опера)\n02.10.2021г -20 часот\nОтворање на Интерфест Битола\nДиригент: Бисера Чадловска\nРежисер: Дејан Прошев\nСценограф: Илина Ангеловска\nКостимограф: Никола Булески\nКореограф: Олга Панго\nАсс.диригент: Катерина Стојковска\nАсс.режисер: Трајко Јордановски\nКонцерт-мајстор:\nХор-мајстор: Јасмина Ѓорѓеска\nСветло дизајн:\nКорепетитори: Елена Сиљаноска\, Јанинка Невчева\, Андреја Наунов\nСОЛИСТИ\nКанио / Палјачо: Зоран Сотиров\nНеда / Коломбина: Билјана Јосифов\nТонио / Тадео: Горан Начевски\nПепе / Арлекин: Јане Дунимаглоски\nСилвио: Драган Ампов\nБалет:\nНастапуваат хорот и оркестарот на НОБ\nИнспициенти: Љупчо Полизов\, Драган Костадиновиќ\, Марко Павлевски\nСуфлери: Павлина Здравкова\, Невена Георгиева
URL:https://operabalet.mk/event/%d0%bf%d0%b0%d0%bb%d1%98%d0%b0%d1%87%d0%b8-%d1%80%d1%83%d1%9f%d0%b5%d1%80%d0%be-%d0%bb%d0%b5%d0%be%d0%bd%d0%ba%d0%b0%d0%b2%d0%b0%d0%bb%d0%be-%d0%b3%d0%be%d1%81%d1%82%d1%83%d0%b2/
LOCATION:Array
CATEGORIES:опера
ATTACH;FMTTYPE=image/jpeg:https://operabalet.mk/wp-content/uploads/2021/09/Pagliacci-web.jpg
END:VEVENT
END:VCALENDAR