BEGIN:VCALENDAR
VERSION:2.0
PRODID:-//Национална опера и балет - ECPv4.0.7//NONSGML v1.0//EN
CALSCALE:GREGORIAN
METHOD:PUBLISH
X-WR-CALNAME:Национална опера и балет
X-ORIGINAL-URL:https://operabalet.mk
X-WR-CALDESC:Events for Национална опера и балет
BEGIN:VEVENT
DTSTART;TZID="Europe/Skopje":20250425T200000
DTEND;TZID="Europe/Skopje":20250425T210000
DTSTAMP:20260423T100049
CREATED:20250402T115542
LAST-MODIFIED:20250403T083112
UID:4483-1745611200-1745614800@operabalet.mk
SUMMARY: „Патување“ (современ балет-25.4.2025)
DESCRIPTION:\n25.4.2025 - 20h Мала сцена\n „Патување“ (современ балет)\nКореграф: Џан Арслан (Турција)\nМузика: Езио Босо\nАсистент-кореограф: Саша Евтимова\nКостимограф: Марија Пупучевска\nНастапуваат:  Саша Евтимова\, Илијана Данилов\, Симона Колиштркоска\, Наташа Трендафилова Гицев\,\nЕва Перковска\, Франциско Хименез Руиз\, Балаж Лочеи\, Валери Љубенко\, Ендру Кук\, Веселин Трајковски\n 
URL:https://operabalet.mk/event/%d0%bf%d0%b0%d1%82%d1%83%d0%b2%d0%b0%d1%9a%d0%b5-%d1%81%d0%be%d0%b2%d1%80%d0%b5%d0%bc%d0%b5%d0%bd-%d0%b1%d0%b0%d0%bb%d0%b5%d1%82-25-4-2025/
LOCATION:Array
CATEGORIES:балет
ATTACH;FMTTYPE=image/png:https://operabalet.mk/wp-content/uploads/2025/04/denovi_koreografi_2025_.png
END:VEVENT
END:VCALENDAR