BEGIN:VCALENDAR
VERSION:2.0
PRODID:-//Национална опера и балет - ECPv4.0.7//NONSGML v1.0//EN
CALSCALE:GREGORIAN
METHOD:PUBLISH
X-WR-CALNAME:Национална опера и балет
X-ORIGINAL-URL:https://operabalet.mk
X-WR-CALDESC:Events for Национална опера и балет
BEGIN:VEVENT
DTSTART;TZID="Europe/Skopje":20221007T200000
DTEND;TZID="Europe/Skopje":20221007T220000
DTSTAMP:20260423T124138
CREATED:20220822T205231
LAST-MODIFIED:20221004T130254
UID:3530-1665172800-1665180000@operabalet.mk
SUMMARY:"Шехерезада" и "Валпургиска ноќ" (7.10.2022)
DESCRIPTION:\n„ШЕХЕРЕЗАДА“ И „ВАЛПУРГИСКА НОЌ“ \nНАСТАПУВА БАЛЕТОТ И ОРКЕСТАРОТ НА НАЦИОНАЛНА ОПЕРА И БАЛЕТ\n И ГОСТИ ОД БАЛЕТОТ НА  ДРЖАВНА ОПЕРА ВАРНА\, Р. БУГАРИЈА\n7.10.2022 – 20 ЧАСОТ \n \nШЕХЕРЕЗАДА – Николај Римски Корсаков (балет)\nДиригент: Григор Паликаров (Р. Бугарија)\nКореограф: Михаил Крапивин (Русија) – со првична постановка на Михаил Фокин\nСценограф: Марија Ветеровска (по сценографијата на Л. Бакст)\nКостимограф: Маја Бурсаќ (Србија) – по костимографија на Л. Бакст\nКонцерт мајстор: Климент Тодороски\nРепетитори:  Горан Божинов\,Александра Мијалкова\, Билјана Пашариковска\,Дафина Данилоска-Кочевска\nСолисти:\nЗабеида: Ивана Коцевска\nЗлатен роб: Балаж Лочеи (Унгарија)\nСинопсис Шехерзада:\n Царот Шархијар се одмара во својата одаја. Неговиот брат шахот Земан го забавуваат харемските девојки со песна и игра. Шахријар е заинтересиран само за својата миленичка Забеида\, но Земан се сомнева во нејзината верност. Шахријар\, потпаѓа под влијание на Земан и објавува дека ќе оди на лов\, а девојките од харемот ја заговараат Забеида да му пријде на Шахријар и да му посака среќа во ловот\, за да се оттргне секое сомнение. Кога мажите одат\, девојките го поткупуваат главниот евнух кој ги чува да ја отвори вратата од харемот. Црните робови влегуваат во харемот и почнуваат оргии со жените на Шахријар. Забеида за себе го одбира најубавиот меѓу нив. Одеднаш се враќа Шахријар. Сомневањето на Земан се потврдува. Смртната казна пристигнува за робовите и евнусите. Забеида го моли царот за милост и го убедува во нејзината верна љубов.Иако за момент се колеба\, Шахријар за да ја спаси својата чест ја жртвува својата љубов. Забеида која не наоѓа решение се самоубива во прегратката на царот Шахриј.\nВАЛПУРГИСКА НОЌ – Шарл Гуно (балет)\nДиригент: Григор Паликаров (Бугарија)\nКореограф: Леонид Лавровски\nРедакција на кореографија и режија: Светлана Тоншева (Бугарија)\nКостимограф: Изабела Поњавиќ\nКонцерт мајстор: Климент Тодороски\nСолисти: Марија Кичевска Шокаровска\,  Павел Кирчев (Бугарија) и Марко ди Салво (Бугарија)\n
URL:https://operabalet.mk/event/%d0%bf%d0%b5%d0%bf%d0%b5%d0%bb%d0%b0%d1%88%d0%ba%d0%b0-%d0%b1%d0%b0%d0%bb%d0%b5%d1%82%d1%81%d0%ba%d0%b0-%d0%bf%d1%80%d0%b5%d0%bc%d0%b8%d0%b5%d1%80%d0%b0-4-10-2022/
LOCATION:Array
CATEGORIES:балет
ATTACH;FMTTYPE=image/jpeg:https://operabalet.mk/wp-content/uploads/2022/06/sheherezade-walpurgis.jpg
END:VEVENT
END:VCALENDAR