BEGIN:VCALENDAR
VERSION:2.0
PRODID:-//Национална опера и балет - ECPv4.0.7//NONSGML v1.0//EN
CALSCALE:GREGORIAN
METHOD:PUBLISH
X-WR-CALNAME:Национална опера и балет
X-ORIGINAL-URL:https://operabalet.mk
X-WR-CALDESC:Events for Национална опера и балет
BEGIN:VEVENT
DTSTART;TZID="Europe/Skopje":20230607T200000
DTEND;TZID="Europe/Skopje":20230607T211500
DTSTAMP:20260423T111400
CREATED:20230529T090416
LAST-MODIFIED:20230607T100217
UID:3796-1686168000-1686172500@operabalet.mk
SUMMARY:„Пепелашка“ -  гостување во НУ Центар за култура-Битола(7.6.2023)
DESCRIPTION:\nСергеј Прокофјев\n ПЕПЕЛАШКА\n (современ балет во 3 слики)\n 7.6.2023\n Современа бајка за сите возрасти*\nКореограф: Александар Илиќ (Србија)\nКостимограф: Катерина Радошевиќ Галиќ (Хрватска)\nСценограф: Филип Коруновски\nДизајн на звук: Георг Драушник (Хрватска)\nДизајн на светло: Милчо Александров\nАсистент – кореограф: Саша Евтимова и Мојца Мајцен (Словенија)\nАсистент-костимограф:Ангела Богеска\nРепетитори: Саша Евтимова\,Марија Јосифовска Ристовска\,Дафина Данилоска-Кочевска\nНАСТАПУВААТ:\nПЕПЕЛАШКА: Христина Наќевска\nПРИНЦ: Мирослав Митрашиновиќ\nВИЛА АНГЕЛ: Медина Јусуфовиќ\nМАЌЕА: Ангела Богатинова\nСЕСТРИ: Ендру Кук\, Кристијан Јангос\nТATKO:Драган Кочоски\nМАЛА ПЕПЕЛАШКА: Гала Кочевска\nНастапуваат солисти и балетски ансамбл на Националната опера и балет
URL:https://operabalet.mk/event/%d0%bf%d0%b5%d0%bf%d0%b5%d0%bb%d0%b0%d1%88%d0%ba%d0%b0-%d0%b3%d0%be%d1%81%d1%82%d1%83%d0%b2%d0%b0%d1%9a%d0%b5-%d0%b2%d0%be-%d0%bd%d1%83-%d1%86%d0%b5%d0%bd%d1%82%d0%b0%d1%80-%d0%b7/
LOCATION:Array
CATEGORIES:балет
ATTACH;FMTTYPE=image/jpeg:https://operabalet.mk/wp-content/uploads/2022/11/pepelashka_slide1.jpg
END:VEVENT
END:VCALENDAR