BEGIN:VCALENDAR
VERSION:2.0
PRODID:-//Национална опера и балет - ECPv4.0.7//NONSGML v1.0//EN
CALSCALE:GREGORIAN
METHOD:PUBLISH
X-WR-CALNAME:Национална опера и балет
X-ORIGINAL-URL:https://operabalet.mk
X-WR-CALDESC:Events for Национална опера и балет
BEGIN:VEVENT
DTSTART;TZID="Europe/Skopje":20221125T190000
DTEND;TZID="Europe/Skopje":20221125T203000
DTSTAMP:20260423T124205
CREATED:20221103T105341
LAST-MODIFIED:20221115T095458
UID:3618-1669402800-1669408200@operabalet.mk
SUMMARY:ПЕПЕЛАШКА - Сергеј Прокофјев (БАЛЕТСКА ПРЕМИЕРА\, 25.11.2022)
DESCRIPTION:\nСергеј Прокофјев\nПЕПЕЛАШКА\nБАЛЕТСКА ПРЕМИЕРА\n25.11.2022 – 19 ЧАСОТ\n \nБалетска претстава за сите возрасти\, современ балет во три слики.\nКореограф: Александар Илиќ (Србија)\nКостимограф: Катерина Радошевиќ Галиќ (Хрватска)\nСценограф: Филип Коруновски\nДизајн на звук: Георг Драушник (Хрватска)\nДизајн на светло: Милчо Александров\nАсистент – кореограф: Саша Евтимова и Мојца Мајцен (Словенија)\nАсистент костимограф: Ангела Богеска\nРепетитори: Саша Евтимова и Билјана Пашариковска\nНастапуваат:\nПепелашка: Христина Наќевска\, Билјана Басмаџиева Ковачевски\, Симона Митовска\, Наташа Трендафилов – Гицев\nПринц: Игор Веланоски\, Балаж Лочеи (Унгарија)\nНАСТАПУВААТ СОЛИСТИ И БАЛЕТСКИОТ АНСАМБЛ НА НАЦИОНАЛНАТА ОПЕРА И БАЛЕТ\n \nКраток синопсис „Пепелашка“\n....И живееја среќно до крајот на животот\, затоа што љубовта е во воздухот....но\, пред тоа би требало и да се запознаат....\nВо еден мал\, но познат град\, на главниот плоштад\, каде што се наоѓа споменикот„ Вила Срце“\, се среќаваат пријатели\, се заљубуваат момчиња во девојки\, оџачарот прави пауза во својот распоред\, а едно девојче по име Пепелашка во нежните дланки\, носи куфер преполн со соништа. Чекајки го својот татко\, кој и има испратено писмо\, се радува на средбата и одењето во заедничкиот топол дом\, дом во кој никој не ја сака\, но соништата не ја напуштаат.\nСо помош на мудрите Вили и малку магија\, таа е спремна за бал на кој не е повикана. На балот е омилената и најубава девојка\, во која сите момчиња се вљубени\, таму е и тој вистинскиот - нејзиниот принц од соништата.\nПравилото е дека сите добри девојки мораат пред полноќ да бидат во своите домови.\nОпиена од танц\, смеа\, од принцот и неговото друштво\, заборава на времето и точно на полноќ почнува лошиот сон.\nВо Вителот на танцот\, отчукува полноќ\, Пепелашка го губи својот принц\, својот разум\, но и едниот чевел.\nПринцот случајно го наоѓа чевелот\, но тој не го знае името на девојката\, ниту каде таа живее.\nОбјавува потрага во градот за девојката која го изгубила чевелот\, со ветување дека ако ја пронајде девојката\, ќе се ожени со неа и таа ќе стане принцеза....\nДали приказната имаше среќен крај\, тоа тогаш не го знаеше ниту Вилата Срце\, бидејќи сите девојки загубија по еден чевел\, верувајќи во своите желби и соништа.\nСите живееја среќно до крајот на животот\, но и подолго\, по оваа приказна.\nМногу\, многу среќно\, бидејќи Love is in the Air....
URL:https://operabalet.mk/event/%d0%bf%d0%b5%d0%bf%d0%b5%d0%bb%d0%b0%d1%88%d0%ba%d0%b0-%d1%81%d0%b5%d1%80%d0%b3%d0%b5%d1%98-%d0%bf%d1%80%d0%be%d0%ba%d0%be%d1%84%d1%98%d0%b5%d0%b2-%d0%b1%d0%b0%d0%bb%d0%b5%d1%82%d1%81%d0%ba%d0%b0-2/
LOCATION:Array
CATEGORIES:балет
ATTACH;FMTTYPE=image/jpeg:https://operabalet.mk/wp-content/uploads/2022/11/pepelashka_slide1.jpg
END:VEVENT
END:VCALENDAR