BEGIN:VCALENDAR
VERSION:2.0
PRODID:-//Национална опера и балет - ECPv4.0.7//NONSGML v1.0//EN
CALSCALE:GREGORIAN
METHOD:PUBLISH
X-WR-CALNAME:Национална опера и балет
X-ORIGINAL-URL:https://operabalet.mk
X-WR-CALDESC:Events for Национална опера и балет
BEGIN:VEVENT
DTSTART;TZID="Europe/Skopje":20230318T120000
DTEND;TZID="Europe/Skopje":20230318T130000
DTSTAMP:20260423T111244
CREATED:20230302T234534
LAST-MODIFIED:20230315T114215
UID:3725-1679140800-1679144400@operabalet.mk
SUMMARY:„ПЕПЕЛАШКА“ - Сергеј Прокофјев (18.3.2023)
DESCRIPTION:\nСергеј Прокофјев\n „ПЕПЕЛАШКА“\n18.3.2023- 12 часот\n(современ балет во 3 слики)\nСовремена бајка за сите возрасти\nКореограф: Александар Илиќ (Србија)\nКостимограф: Катерина Радошевиќ Галиќ (Хрватска)\nСценограф: Филип Коруновски\nДизајн на звук: Георг Драушник (Хрватска)\nДизајн на светло: Милчо Александров\nАсистент–кореограф: Саша Евтимова и Мојца Мајцен (Словенија)\nАсистент–костимограф: Ангела Богеска\nРепетитори: Саша Евтимова\,Билјана Пашариковска\,Дафина Данилоска-Кочевска\nНАСТАПУВААТ:\nПепелашка: Биби Басмаџиева Ковачевски\nПринц: Игор Веланоски\nВила Ангел: Саша Евтимова\nМаќеа: Марија Јосифовска-Ристовска\,\nСестри: Ендру Кук\, Кристијан Јангос\nТатко:Драган Кочоски\nМала Пепелашка: Гала Кочевска\nНастапуваат солисти и балетски ансамбл на Националната опера и балет\nВреметраење: 1 час\nСИНОПСИС „ПЕПЕЛАШКА\n“ ....И живееја среќно до крајот на животот\, затоа што љубовта е во воздухот....но\, пред тоа би требало и да се запознаат.... Во еден мал\, но познат град\, на главниот плоштад\, каде што се наоѓа споменикот„ Вила Срце“\, се среќаваат пријатели\, се заљубуваат момчиња во девојки\, оџачарот прави пауза во својот распоред\, а едно девојче по име Пепелашка во нежните дланки\, носи куфер преполн со соништа. Чекајки го својот татко\, кој и има испратено писмо\, се радува на средбата и одењето во заедничкиот топол дом\, дом во кој никој не ја сака\, но соништата не ја напуштаат. Со помош на мудрите Вили и малку магија\, таа е спремна за бал на кој не е повикана. На балот е омилената и најубава девојка\, во која сите момчиња се вљубени\, таму е и тој вистинскиот - нејзиниот принц од соништата. Правилото е дека сите добри девојки мораат пред полноќ да бидат во своите домови. Опиена од танц\, смеа\, од принцот и неговото друштво\, заборава на времето и точно на полноќ почнува лошиот сон. Во Вителот на танцот\, отчукува полноќ\, Пепелашка го губи својот принц\, својот разум\, но и едниот чевел. Принцот случајно го наоѓа чевелот\, но тој не го знае името на девојката\, ниту каде таа живее. Објавува потрага во градот за девојката која го изгубила чевелот\, со ветување дека ако ја пронајде девојката\, ќе се ожени со неа и таа ќе стане принцеза.... Дали приказната имаше среќен крај\, тоа тогаш не го знаеше ниту Вилата Срце\, бидејќи сите девојки загубија по еден чевел\, верувајќи во своите желби и соништа. Сите живееја среќно до крајот на животот\, но и подолго\, по оваа приказна. Многу\, многу среќно\, бидејќи Love is in the Air....
URL:https://operabalet.mk/event/%d0%bf%d0%b5%d0%bf%d0%b5%d0%bb%d0%b0%d1%88%d0%ba%d0%b0-%d1%81%d0%b5%d1%80%d0%b3%d0%b5%d1%98-%d0%bf%d1%80%d0%be%d0%ba%d0%be%d1%84%d1%98%d0%b5%d0%b2-18-3-2023/
LOCATION:Array
CATEGORIES:балет
ATTACH;FMTTYPE=image/jpeg:https://operabalet.mk/wp-content/uploads/2022/11/pepelashka_slide1.jpg
END:VEVENT
END:VCALENDAR