BEGIN:VCALENDAR
VERSION:2.0
PRODID:-//Национална опера и балет - ECPv4.0.7//NONSGML v1.0//EN
CALSCALE:GREGORIAN
METHOD:PUBLISH
X-WR-CALNAME:Национална опера и балет
X-ORIGINAL-URL:https://operabalet.mk
X-WR-CALDESC:Events for Национална опера и балет
BEGIN:VEVENT
DTSTART;TZID="Europe/Skopje":20240927T200000
DTEND;TZID="Europe/Skopje":20240927T210000
DTSTAMP:20260423T111244
CREATED:20240912T083910
LAST-MODIFIED:20240912T151027
UID:4103-1727467200-1727470800@operabalet.mk
SUMMARY:ПЕПЕЛАШКА - Сергеј Прокофјев (27.9.2024)
DESCRIPTION:\nСергеј Прокофјев\nПЕПЕЛАШКА\n(современ балет во 3 слики)\n27.9.2024 со почеток во 20 часот\nСовремена бајка за сите возрасти*\nКореограф: Александар Илиќ (Србија)\nКостимограф: Катерина Радошевиќ Галиќ (Хрватска)\nСценограф: Филип Коруновски\nДизајн на звук: Георг Драушник (Хрватска)\nДизајн на светло: Милчо Александров\nАсистент – кореограф: Саша Евтимова и Мојца Мајцен (Словенија)\nАсистент–костимограф:Ангела Богеска\nРепетитори: Саша Евтимова\,Дафина Данилоска-Кочевска\nНастапуваат\nПЕПЕЛАШКА: Наташа Трендафилова Гицев (Христина Наќевска)\nПРИНЦ: Игор Веланоски\nВИЛА АНГЕЛ: Саша Евтимова\nМАЌЕА: Ангела Богатинова\nСЕСТРИ: Ендру Кук (Англија)\,  Кристијан Јангос\nТАТКО: Драган Кочоски\nМАЛА ПЕПЕЛАШКА: Гала Кочевска\nНастапуваат солисти и балетски ансамбл на Националната опера и балет\n*Времетраење 1 час\n \nКраток синопсис „Пепелашка“\n….И живееја среќно до крајот на животот\, затоа што љубовта е во воздухот….но\, пред тоа би требало и да се запознаат….\nВо еден мал\, но познат град\, на главниот плоштад\, каде што се наоѓа споменикот„ Вила Срце“\, се среќаваат пријатели\, се заљубуваат момчиња во девојки\, оџачарот прави пауза во својот распоред\, а едно девојче по име Пепелашка во нежните дланки\, носи куфер преполн со соништа. Чекајки го својот татко\, кој и има испратено писмо\, се радува на средбата и одењето во заедничкиот топол дом\, дом во кој никој не ја сака\, но соништата не ја напуштаат.\nСо помош на мудрите Вили и малку магија\, таа е спремна за бал на кој не е повикана. На балот е омилената и најубава девојка\, во која сите момчиња се вљубени\, таму е и тој вистинскиот – нејзиниот принц од соништата.\nПравилото е дека сите добри девојки мораат пред полноќ да бидат во своите домови.\nОпиена од танц\, смеа\, од принцот и неговото друштво\, заборава на времето и точно на полноќ почнува лошиот сон.\nВо Вителот на танцот\, отчукува полноќ\, Пепелашка го губи својот принц\, својот разум\, но и едниот чевел.\nПринцот случајно го наоѓа чевелот\, но тој не го знае името на девојката\, ниту каде таа живее.\nОбјавува потрага во градот за девојката која го изгубила чевелот\, со ветување дека ако ја пронајде девојката\, ќе се ожени со неа и таа ќе стане принцеза….\nДали приказната имаше среќен крај\, тоа тогаш не го знаеше ниту Вилата Срце\, бидејќи сите девојки загубија по еден чевел\, верувајќи во своите желби и соништа.\nСите живееја среќно до крајот на животот\, но и подолго\, по оваа приказна.\nМногу\, многу среќно\, бидејќи Love is in the Air….\n
URL:https://operabalet.mk/event/%d0%bf%d0%b5%d0%bf%d0%b5%d0%bb%d0%b0%d1%88%d0%ba%d0%b0-%d1%81%d0%b5%d1%80%d0%b3%d0%b5%d1%98-%d0%bf%d1%80%d0%be%d0%ba%d0%be%d1%84%d1%98%d0%b5%d0%b2-27-9-2024/
LOCATION:Array
CATEGORIES:балет
ATTACH;FMTTYPE=image/jpeg:https://operabalet.mk/wp-content/uploads/2022/11/pepelashka_slide1.jpg
END:VEVENT
END:VCALENDAR