BEGIN:VCALENDAR
VERSION:2.0
PRODID:-//Национална опера и балет - ECPv4.0.7//NONSGML v1.0//EN
CALSCALE:GREGORIAN
METHOD:PUBLISH
X-WR-CALNAME:Национална опера и балет
X-ORIGINAL-URL:https://operabalet.mk
X-WR-CALDESC:Events for Национална опера и балет
BEGIN:VEVENT
DTSTART;TZID="Europe/Skopje":20211212T120000
DTEND;TZID="Europe/Skopje":20211212T130000
DTSTAMP:20260423T173039
CREATED:20210902T090853
LAST-MODIFIED:20210902T090853
UID:3191-1639310400-1639314000@operabalet.mk
SUMMARY:„Петар Пан“ - балетска претстава за деца (12.12.2021\, 12часот)
DESCRIPTION:\n„Петар Пан“ - балетска претстава за деца\n\nКореограф: Џејмс Амар\nСценограф: Зоран Костовски\nКостимограф: Марија Пупучевска\nУчествуваат балетски солисти и ансамблот на Националната опера и балет
URL:https://operabalet.mk/event/%d0%bf%d0%b5%d1%82%d0%b0%d1%80-%d0%bf%d0%b0%d0%bd-%d0%b1%d0%b0%d0%bb%d0%b5%d1%82%d1%81%d0%ba%d0%b0-%d0%bf%d1%80%d0%b5%d1%82%d1%81%d1%82%d0%b0%d0%b2%d0%b0-%d0%b7%d0%b0-%d0%b4%d0%b5-2/
LOCATION:Array
CATEGORIES:балет
ATTACH;FMTTYPE=image/jpeg:https://operabalet.mk/wp-content/uploads/2016/08/petar-pan-web.jpg
END:VEVENT
END:VCALENDAR