BEGIN:VCALENDAR
VERSION:2.0
PRODID:-//Национална опера и балет - ECPv4.0.7//NONSGML v1.0//EN
CALSCALE:GREGORIAN
METHOD:PUBLISH
X-WR-CALNAME:Национална опера и балет
X-ORIGINAL-URL:https://operabalet.mk
X-WR-CALDESC:Events for Национална опера и балет
BEGIN:VEVENT
DTSTART;TZID="Europe/Skopje":20250312T100000
DTEND;TZID="Europe/Skopje":20250312T110000
DTSTAMP:20260423T112426
CREATED:20250303T110801
LAST-MODIFIED:20250303T110801
UID:4443-1741773600-1741777200@operabalet.mk
SUMMARY:ПЕТАР ПАН - детска балетска претстава (12.3.2025)
DESCRIPTION:\nРАСПРОДАДЕНА\nПЕТАР ПАН\nКореограф: Џејмс Амар (Франција)\nСценограф: Зоран Костовски\nКостимограф: Марија Пупучевска\nРепетитори: Дафина Данилоска-Кочевска\, Саша Евтимова\, Киро Павлов\, Билјана Басмаџиева Ковачевски\nКорепетитори: Марјан Василевски\, Стефан Пехчевски\nИнспициенти: Дубравка Шопова\, Тијана Тарчуговска Георгиева\nНастапуваат балетски солисти и ансамблот на Националната опера и балет\nВреметраење: 1 час\nПетар Пан e лик создаден од шкотскиот романописец и драматург Џ.М.Бeри (1860–1937). Палаво момче кое може да лета и магично одбива да расте. Петар Пан го поминува своето бескрајно детство во авантури на малиот остров\, Недојдија\, како лидер на неговата банда „Изгубените момчиња“\, заедно со сирени\, Индијанци\, самовили и пирати\, и одвреме-навреме сретнувајќи необични деца од надворешниот свет.
URL:https://operabalet.mk/event/%d0%bf%d0%b5%d1%82%d0%b0%d1%80-%d0%bf%d0%b0%d0%bd-%d0%b4%d0%b5%d1%82%d1%81%d0%ba%d0%b0-%d0%b1%d0%b0%d0%bb%d0%b5%d1%82%d1%81%d0%ba%d0%b0-%d0%bf%d1%80%d0%b5%d1%82%d1%81%d1%82%d0%b0%d0%b2%d0%b0-12-3-2/
LOCATION:Array
CATEGORIES:балет
ATTACH;FMTTYPE=image/jpeg:https://operabalet.mk/wp-content/uploads/2016/08/petar-pan-web.jpg
END:VEVENT
END:VCALENDAR