BEGIN:VCALENDAR
VERSION:2.0
PRODID:-//Национална опера и балет - ECPv4.0.7//NONSGML v1.0//EN
CALSCALE:GREGORIAN
METHOD:PUBLISH
X-WR-CALNAME:Национална опера и балет
X-ORIGINAL-URL:https://operabalet.mk
X-WR-CALDESC:Events for Национална опера и балет
BEGIN:VEVENT
DTSTART;TZID="Europe/Skopje":20241214T200000
DTEND;TZID="Europe/Skopje":20241214T230000
DTSTAMP:20260423T163303
CREATED:20241202T150737
LAST-MODIFIED:20241203T110329
UID:4344-1734206400-1734217200@operabalet.mk
SUMMARY:„Пикова Дама“ - П. И. Чајковски (14.12.2024)
DESCRIPTION:\n„Пикова Дама“\nОпера во три чина од П. И. Чајковски\nГостување на Државна опера Варна\n\nДиригент:  Григор Паликаров\nРежисер: Вера Немирова\nСценограф и костимограф: Јулијан Табаков\nКореограф: Анна Пампулова\nДиригент на хорот: Теодора Георгиева\nНАСТАПУВААТ:\nХерман: Валериј Георгиев\nЛиза: Ирина Жекова\nГрофицата: Бојка Василева\nГроф Томски / Златогор: Пламен Димитров\nКнез Јелецки: Иво Јорданов\nЧекалински: Пламен Рајков\nСурин: Евгениј Станимиров\nЧаплицки: Велин Михајлов\nНарумов: Петар Петров\nУправник: Владислав Владимиров\nПолина/ Миловзор: Михаела Берова\nГувернантка: Вјара Железова\nМаша: Галина Великова\nПрилепа: Лилија Илиева\nСолисти\, оркестар\, хор и балет на Државна опера Варна\nВо својата анализа на делото Вера Немирова истакнува дека ако во 2007 год.  барала пореално читање на „Пикова Дама“\, сега нејзините барања во продукцијата на Државна Опера Варна дефинитивно се во доменот на психолошката драма.\nЗа разлика од романот на Пушкин\, во кој херојот Херман е прикажан како бесчувствителен и пресметлив\, П.И. Чајковски го обдарил со богата\, опасна за себе и општеството преосетливост.\nПоделена личност\, растргната помеѓу две страсти: невозможната љубов кон Лиза и страста за коцкање.\nСè до моментот кога страста за играта целосно го обзема\, тој ја носи симпатијата на гледачот. Меѓутоа\, во него сè повеќе преовладува страста за играта и профитот и ја заборава својата првобитна цел: да се бори за својата љубов.\nЗа разлика од него\, Лиза ја следи до крај својата цел\, ветувајќи дека ќе го поврзе својот живот со Херман\, па дури и ако е криминалец. По цена да се изгуби себеси\, таа со цело битие оди кај него. Тука се разминуваат нивните патишта\, а меридијанот што ги поврзува и раздвојува е судбината на старата грофица.\nПоранешната „московска Венера“\, позната социјалистичка и страсна играчка на карти\, во Херман го гледа својот ангел смрттник\, а тој неа ја гледа како холограм. Баладата на Томски предвидува дека Грофицата ќе добие смртен удар од оној што ќе дојде да ја дознае тајната на победничките три карти\, тие се поврзани со судбината.\nЉубовниот триаголник на Ерос и смртта ги заплеткува Херман\, Грофицата и Лиза и води до фатален крај за сите тројца.\nСамиот Чајковски е дел од секој еден свој херој. Во секој негов херој се среќаваат силуети на неговиот сложен и многу страдален лик.\nЗаради тоа\, „Пикова Дама“ пред се е силна психолошка драма\, а второ и не помалку важно\, шокантна социјална трагедија во која сиромав и обичен човек како Херман\, нема место и право на љубов во светот на богатите.\n
URL:https://operabalet.mk/event/%d0%bf%d0%b8%d0%ba%d0%be%d0%b2%d0%b0-%d0%b4%d0%b0%d0%bc%d0%b0-%d0%bf-%d0%b8-%d1%87%d0%b0%d1%98%d0%ba%d0%be%d0%b2%d1%81%d0%ba%d0%b8-14-12-2024/
LOCATION:Array
CATEGORIES:опера
ATTACH;FMTTYPE=image/png:https://operabalet.mk/wp-content/uploads/2024/12/pikova_dama.png
END:VEVENT
END:VCALENDAR