BEGIN:VCALENDAR
VERSION:2.0
PRODID:-//Национална опера и балет - ECPv4.0.7//NONSGML v1.0//EN
CALSCALE:GREGORIAN
METHOD:PUBLISH
X-WR-CALNAME:Национална опера и балет
X-ORIGINAL-URL:https://operabalet.mk
X-WR-CALDESC:Events for Национална опера и балет
BEGIN:VEVENT
DTSTART;TZID="UTC+0":20201223T200000
DTEND;TZID="UTC+0":20201223T210000
DTSTAMP:20260423T202000
CREATED:20201218T133524
LAST-MODIFIED:20201221T141724
UID:2881-1608753600-1608757200@operabalet.mk
SUMMARY:Предновогодишен балетски концерт (23.12.2020)
DESCRIPTION:\n\n\nВАЖНО ИЗВЕСТУВАЊЕ!\n\n\nПоради пандемијата предизвикана од Ковид -19\, ве известуваме дека\n„Предновогодишниот балетски концерт“ закaжан за 23 и 25 декември СЕ ОДЛОЖУВА!\nЗа новиот датум\, дополнително ќе ја информираме јавноста.\n\n\nВи благодариме на разбирањето.\n\n\nСо почит\,\nНУ Национална опера и балет\n\nПредновогодишен балетски концерт\nНастапуваат првенци\, солисти и балетскиот ансамбл на Националната опера и балет\nРепептитори: Горан Божинов\, Лора Тарчуговска\, Билјана Пашариковска\, Саша Евтимова\nПрограма:\n1.Pas de quatre (музика: Цезар Пуњи\, кореографија: Aнтон Долин)\nСолисти: Ивана Коцевска\, Христина Наќевска\, Ивана Димкоска\, Виолета Карајнова\n2. Силфида (музика: Херман Ловенскјолд\, кореографија: Август Бурнонвил)\nСолисти:\nСилфида: Мими Поп Алексова Атанасовска\nЏејмс: Игор Веланоски\n3. Сарацини - Извадок од балетот Рајмонда (музика Александар: Глазунов\, кореографија: Виктор Јаременко - Украина)\nНастапуваат: Кристијан Јангос\, Мартин Саздовски\, Агим Бафтии\, Салваторе Лаудани\, Марко Арсов\n4. Панадерас - Извадок од балетот Рајмонда (музика: Александар Глазунов\, кореографија: Виктор Јаременко - Украина)\nАбдурахман: Балаж Лашеи (Унгарија)\nЖенски ансамбл: Цветанка Максимовска\, Марија Глигорова\, Славица Мишева\, Ирена Макеларска\, Бистра Иванова\, Илијана Данилов\, Ангела Богатинова\, Теодора Ставревска\, Мартина Димоска\n5. Бајадера (музика: Лудвинг Минкус\, кореографија: Мариус Петипа )\nМонолог на Никија: Ивана Коцевска\n6. Танцот на сабјите - извадок од балетот Гајане (музика: Арам Хачатуријан)\nМирослав Митрашиновиќ\, Јан Кисилев\, Кристијан Јангос\, Салваторе Лаудани\, Агим Бафтии\, Марко Арсов\, Никола Орсо\n7. Пахита (музика: Е.Делдевез и Л.Минкус\, кореографија: М.Петипа )\nПахита: Марија Кичевска Шокаровска\nЛуциен: Васили Чичиашвили (Грузија)\nПа де троа:  Андријана Петковски\, Бојана Христовска\, Балаж Лашеи (Унгарија)\nПрва двојка: Бојана Христовска\, Меланија Гоцевска\nВтора двојка: Мила Ниновска\, Ева Перковска\nТрета двојка: Илијана Данилов\, Ивана Димкоска\n1 варијација - Илијана Данилов\n2 варијација –Ивана Димкоска\n3 варијација – Меланија Гоцевска\n4 варијација – Вилолета Карајанова\n5 варијација - Христина Наќевска\nДевојки : Дијана Радеска\, Теодора Ставревска\, Матеа Каревски\, Андријана Богатиноска\, Исидора Китановиќ\, Мартина Димоска\, Ања Филипова\n*************************************************\n\nНастанот ќе се одржи според протоколите предвидени со моменталната состојба предизвикана од пандемијата Ковид-19 за одржување настани\, одобрени од Комисијата за заразни болести. Задолжително е носење на заштитна маска.\nВе молиме\, почитувајте ги мерките за заштита.\n\nПРОТОКОЛ ЗА ПУБЛИКА\nВлезот на публиката ќе се одвива во две фази\, прва фаза/влез – дезинфекција на раце\, обувки и мерење на температура и втора фаза/влез – приложување на билет.\nВлезот за публиката е отворен еден час пред почеток на претставата/настанот.\nЗадолжително носење на маска за секој посетител – влезот нема да биде дозволен без маски.\nЗадолжителна дезинфекција на рацете и обувките на влез.\nЗадолжително мерење на телесна температура на влез.\nИма јасно и видно истакнато известување за придржување на мерките.\nВлезот е еден по еден во фоајето со одржување на дистанца од 1.5 до 2 метра.\nГардеробата е затворена (секој посетител ќе мора да си ја земе со себе).
URL:https://operabalet.mk/event/%d0%bf%d1%80%d0%b5%d0%b4%d0%bd%d0%be%d0%b2%d0%be%d0%b3%d0%be%d0%b4%d0%b8%d1%88%d0%b5%d0%bd-%d0%b1%d0%b0%d0%bb%d0%b5%d1%82%d1%81%d0%ba%d0%b8-%d0%ba%d0%be%d0%bd%d1%86%d0%b5%d1%80%d1%82/
LOCATION:Array
CATEGORIES:балет
ATTACH;FMTTYPE=image/jpeg:https://operabalet.mk/wp-content/uploads/2020/12/balet-ansambl.jpg
END:VEVENT
END:VCALENDAR