BEGIN:VCALENDAR
VERSION:2.0
PRODID:-//Национална опера и балет - ECPv4.0.7//NONSGML v1.0//EN
CALSCALE:GREGORIAN
METHOD:PUBLISH
X-WR-CALNAME:Национална опера и балет
X-ORIGINAL-URL:https://operabalet.mk
X-WR-CALDESC:Events for Национална опера и балет
BEGIN:VEVENT
DTSTART;TZID="Europe/Skopje":20231216T110000
DTEND;TZID="Europe/Skopje":20231216T120000
DTSTAMP:20260423T100722
CREATED:20231110T100629
LAST-MODIFIED:20231201T090854
UID:3920-1702724400-1702728000@operabalet.mk
SUMMARY:„Работилницата на Дедо Мраз“ - Претстава за деца (16.12.2023)
DESCRIPTION:\nПретстава за деца\n„Работилницата на Дедо Мраз“\n16 .12.2023. Мала сцена\n11:00 часот\nРежисер и сценарист: Љупка Јакимовска\nКо - сценарист Десанка Поп Георгиевска-Глигориевиќ\nИдејно решение во соработка со Десанка Поп Георгиевска-Глигориевиќ\nИнспициенти : Љупчо Полизов\, Драган Костадиновиќ\, Марко Павлевски\nНастапуваат:\nДедо Мраз: Невен Силјановски\nЏуџе: Борко Биџовски\nЅвончица: Александра Лазаровска Василевски/ Јаворка Витанова/\nПинокио: Шинаси Рамадан\nСнежна Кралица: Десанка Поп Георгиевска-Глигориевиќ\nБалерина:\nВетер: Трајко Јордановски\nМесечина: Љупка Јакимовска
URL:https://operabalet.mk/event/%d1%80%d0%b0%d0%b1%d0%be%d1%82%d0%b8%d0%bb%d0%bd%d0%b8%d1%86%d0%b0%d1%82%d0%b0-%d0%bd%d0%b0-%d0%b4%d0%b5%d0%b4%d0%be-%d0%bc%d1%80%d0%b0%d0%b7-%d0%bf%d1%80%d0%b5%d1%82%d1%81%d1%82/
LOCATION:Array
CATEGORIES:опера
ATTACH;FMTTYPE=image/jpeg:https://operabalet.mk/wp-content/uploads/2016/12/rabotilnica-dedo-mraz1.jpg
END:VEVENT
END:VCALENDAR