BEGIN:VCALENDAR
VERSION:2.0
PRODID:-//Национална опера и балет - ECPv4.0.7//NONSGML v1.0//EN
CALSCALE:GREGORIAN
METHOD:PUBLISH
X-WR-CALNAME:Национална опера и балет
X-ORIGINAL-URL:https://operabalet.mk
X-WR-CALDESC:Events for Национална опера и балет
BEGIN:VEVENT
DTSTART;TZID="Europe/Skopje":20251003T200000
DTEND;TZID="Europe/Skopje":20251003T210000
DTSTAMP:20260423T084652
CREATED:20250915T105904
LAST-MODIFIED:20250926T105040
UID:4717-1759521600-1759525200@operabalet.mk
SUMMARY:Реквием - В.А.Моцарт (3.10.2025)
DESCRIPTION:\n\,\,РЕКВИЕМ\,\,\nВолфганг Амадеус Моцарт\n3.10.2025\, Салон на НОБ\, 20.00 часот\nДиригент: Џанлука Мартиненги – Италија\nРежисер: Дејан Прошев\nАсистент диригент : Иван Еминовиќ\nАсистент хор мајстор : Јасмина Ѓоргеска\nСценограф: Марија Ветероска\nКонцерт Мајстор: Јане Бакевски\nСветло дизајн: Милчо Александров\nГрафичко идејно решение: Марија Ветероска\nКорепетитори: Елена Сиљаноска\, Јанинка Невчева; Андреја Наунов\nИнспициенти: Драган Костадиновиќ\, Марко Павлевски\, Катерина Бошковска\nСолисти:\nБиљана Јосифов – сопран\nНиколина Јаневска – мецосопран\nЈане Дунимаглоски – тенор\nВладимир Саздовски – бас\nХорот и оркестарот на Национална опера и балет
URL:https://operabalet.mk/event/%d1%80%d0%b5%d0%ba%d0%b2%d0%b8%d0%b5%d0%bc-%d0%b2-%d0%b0-%d0%bc%d0%be%d1%86%d0%b0%d1%80%d1%82-3-10-2025/
LOCATION:Array
CATEGORIES:концерт
ATTACH;FMTTYPE=image/jpeg:https://operabalet.mk/wp-content/uploads/2025/09/rekviem.jpeg
END:VEVENT
END:VCALENDAR