BEGIN:VCALENDAR
VERSION:2.0
PRODID:-//Национална опера и балет - ECPv4.0.7//NONSGML v1.0//EN
CALSCALE:GREGORIAN
METHOD:PUBLISH
X-WR-CALNAME:Национална опера и балет
X-ORIGINAL-URL:https://operabalet.mk
X-WR-CALDESC:Events for Национална опера и балет
BEGIN:VEVENT
DTSTART;TZID="Europe/Skopje":20230526T200000
DTEND;TZID="Europe/Skopje":20230526T213000
DTSTAMP:20260423T100029
CREATED:20230410T141157
LAST-MODIFIED:20230518T110639
UID:3759-1685131200-1685136600@operabalet.mk
SUMMARY:„Реквием“ - ЏУЗЕПЕ ВЕРДИ (26.5.2023)
DESCRIPTION:\nНАЦИОНАЛНА ОПЕРА И БАЛЕТ - ОПЕРА\n 51 МАЈСКИ ОПЕРСКИ ВЕЧЕРИ\nЏУЗЕПЕ ВЕРДИ\n „Реквием“\n 26.05.2023 почеток 20ч.\nДиригент: Емил Табаков (Бугарија)\nКонцерт-мајстор: Владимир Костов\nХор-мајстор: Ѓурѓица Дашиќ\nСветло дизајн: Перо Марачков\nКорепетитор: Елена Сиљаноска\, Јанинка Невчева\, Андреја Наунов\, Јордан Петрушевски\nСолисти:\nБеса Лугичи – сопран (Косово)\nСања Анастасиа – мецосопран (Србија)\nНикола Китановски – тенор\nИгор Дурловски – бас\nНастапуваат хорот на Националната опера и балет и оркестарот на Филхармонија на Р.С.Македонија\n„Реквием“ на италијанскиот музички мајстор Џузепе Верди е едно од најмоќните\, најдрамтичните дела во историјата на класичната музика. Оваа творба е прекрасна фузија од опера\, драма\, симфонија\, од возбудливи\, виртуозни соло мигови\, од радост и среќа\, до патос и тага\, од едноставни „реченици“ кои ја растеретуваат мислата\, до длабока филозофска идеја за чија суштина вреди да се размислува. Делото е посветено на славниот италијански книжевник Алесандро Манцони.\nКомпозиторот Јоханес Брамс изјавил дека „само гениј би можел да напише вакво дело!“ Реквиемот на Верди е дело со „најсконцентрирани“ емоции – сите човекови чувства ставени на толку малку страници. Музиката е директна и моќна\, вознемирувачка\, величествена...
URL:https://operabalet.mk/event/%d1%80%d0%b5%d0%ba%d0%b2%d0%b8%d0%b5%d0%bc-%d1%9f%d1%83%d0%b7%d0%b5%d0%bf%d0%b5-%d0%b2%d0%b5%d1%80%d0%b4%d0%b8-26-5-2023/
LOCATION:Array
CATEGORIES:концерт
ATTACH;FMTTYPE=image/jpeg:https://operabalet.mk/wp-content/uploads/2023/04/requiem_nov2023.jpg
END:VEVENT
END:VCALENDAR