BEGIN:VCALENDAR
VERSION:2.0
PRODID:-//Национална опера и балет - ECPv4.0.7//NONSGML v1.0//EN
CALSCALE:GREGORIAN
METHOD:PUBLISH
X-WR-CALNAME:Национална опера и балет
X-ORIGINAL-URL:https://operabalet.mk
X-WR-CALDESC:Events for Национална опера и балет
BEGIN:VEVENT
DTSTART;TZID="Europe/Skopje":20230201T200000
DTEND;TZID="Europe/Skopje":20230201T211500
DTSTAMP:20260423T152726
CREATED:20221223T100048
LAST-MODIFIED:20230130T103023
UID:3678-1675281600-1675286100@operabalet.mk
SUMMARY:„РИТА“ - Гаетано Доницети (1.2.2023)
DESCRIPTION:\nГаетано Доницети\n„РИТА“\n01.02.2023\, 20:00 часот\, мала сцена\n \n \nДиригент: Ѓурѓица Дашиќ\nРежисер: Трајко Јордановски\nАсс.Режисер: Љупка Јакимовска\nСценограф / Костимограф: Марија Ветеровска\nКонцерт мајстор: Игор Тодоров\nСветло дизајн: Васко Лисичов\nКорепетитор: Андреја Наунов\, Јанинка Невчева\, Елена Сиљаноска\, Јордан Петрушевски\nНастапуваат:\nРита: Aна Ројдева\nБепе: Јане Дунимаглоски\nГаспаро: Ернес Ибраимовски\nБартоло: Борко Биџовски\nИнспициенти:  Љупчо Полизов\, Драган Костадиновиќ\, Марко Павлевски\nСуфлери: Невена Георгиева\n*времетраење на претставата 75 минути\nСинопсис\nРита\nДејството се случува во Бергамо\, Италија. Рита е сопственичка на преноќиште и вдовица на Гаспаро\, сопруг кој ја малтретирал и според нејзино сознание настрадал во бродолом.\nВо меѓувреме Рита го запознава Бепе\, човек кој многу и помогнал во гаснењето на пожарот во нејзината куќа и се мажи за него. Новиот сопруг е сосема различен од поранешниот\, Гаспаро. Рита\, поттикната од претходното искуство\, се наметнува во новиот брак\, па дури и го малтретира Бепе\, на ист начин како што ја малтретирал Гаспаро.\nОдненадеж се појавува Гаспаро\, кој го преживеал бродоломот и сега живее во Канада каде што се стекнал со големо богатство. Тој се вратил во Бергамо за да добие потврда дека Рита не е жива за да може да склопи брак со вереницата во Канада. Гаспаро доаѓа во преноќиштето на Рита и го наоѓа Бепе.\nВо меѓусебниот разговор\, Гаспаро го учи Бепе како да се однесува со жените\, но при покажување на личната карта на Гаспаро\, Бепе сфаќа дека тој е \,\,починатиот\,\, сопруг на Рита. Го моли да му помогне да се ослододи од малтретирањето на Рита. Единствената цел на Гаспаро е да го добие документорт дека бракот со Рита не важи и применува трик за реализација на својата идеја. Се случува дуел помеѓу Гаспаро и Бепе\, а победникот треба да живее со Рита. Но Рита и Бепе ја откриваат измамата. Гаспаро го добива бараниот документ\, а Рита и Бепе продолжуваат да живеат во среќен брак\, зашто Рита му ветува на Бепе дека нема повеќе да го малтретира.
URL:https://operabalet.mk/event/%d1%80%d0%b8%d1%82%d0%b0-%d0%b3%d0%b0%d0%b5%d1%82%d0%b0%d0%bd%d0%be-%d0%b4%d0%be%d0%bd%d0%b8%d1%86%d0%b5%d1%82%d0%b8-1-2-2023/
LOCATION:Array
CATEGORIES:опера
ATTACH;FMTTYPE=image/jpeg:https://operabalet.mk/wp-content/uploads/2016/06/rita_mk1.jpg
END:VEVENT
END:VCALENDAR