BEGIN:VCALENDAR
VERSION:2.0
PRODID:-//Национална опера и балет - ECPv4.0.7//NONSGML v1.0//EN
CALSCALE:GREGORIAN
METHOD:PUBLISH
X-WR-CALNAME:Национална опера и балет
X-ORIGINAL-URL:https://operabalet.mk
X-WR-CALDESC:Events for Национална опера и балет
BEGIN:VEVENT
DTSTART;TZID="UTC+0":20210602T200000
DTEND;TZID="UTC+0":20210602T210000
DTSTAMP:20260423T170011
CREATED:20210519T094024
LAST-MODIFIED:20210531T172208
UID:3070-1622664000-1622667600@operabalet.mk
SUMMARY:Романтична балетска вечер (2.6.2021)
DESCRIPTION:Кореограф: Аугуст Бурнонвил (Данска)\nМузика: Х. С. Паули\, Х. К. Лумбие\, В. К. Холм\, Е. Хелстед\nПоставена и режирана од Ева Клоберг и Франк Андерсен (Данска)\nСценограф: Зоран Николовски\nСветло дизајн: Милчо Александров\nКостимограф: Марија Пупучевска\nАсистент на продуцентите: Саша Евтимова\nРепетитори: Горан Божинов\, Александра Мијалкова\, Лора Тарчуговска\, Саша Евтимова\, Дафина Данилоска - Кочевска\n„Конзерваториум“\nМастер : Балаж Лашеи ( Унгарија )\nДве девојки : Христина Наќевска\nСимона Митовска\nМажи: Миро Митрашиновиќ\, Ендру Кук ( Англија )\, Никола Орс\, Јан Кисилев\nАнсамбл:\nДевојки: Ангела Велевска\, Мила Ниновска\, Илијана Данилов\, Ангела Богатинова\, Бојана Христовска\,Ивана Димкоска\,Андријана Богатиноска\, Виолета Карајанова\,Теодора Ставревска\,Меланија Гоцевска\, Матеа Каревски\, Мартина Димовска\, Ева Џингова\, Исидора Китановиќ\n„La Ventana“\nСењорита: Мими Поп Алексова Атанасовска\nСењор: Бобан Ковачевски\nОгледало: Саша Евтимова\nПа де троа: Илијана Данилов\,Мартина Димкоска\, Балаж Лашеи ( Унгарија )\, Вили Карајанова\nАнсамбл:\nЖени : Славица Мишева\, Цеце Максимоска\, Бистра Иванова\, Бранкица Јовеска\, Андријана Богатиноска\,Теодора Ставревска\nМажи: Агим Бафтии\, Мартин Саздовски\, Кристијан Јангос\, Салваторе Лаудани\, Борјан Тетиев\, Марко Арсов\n********************************************************************\nНАПОМЕНА:\n\n*Настанот ќе се одржи според протоколите предвидени со моменталната состојба предизвикана од пандемијата Ковид-19 за одржување настани\, одобрени од Комисијата за заразни болести. Задолжително е носење на заштитна маска.\nВе молиме\, почитувајте ги мерките за заштита.\n*Распоредот на онлајн билетите  е во пар од две седишта едно до друго\, на пример седиште 5 и 6\, две слободни седишта\, па 9 и 10 седиште се на продажба. Доколку имате потреба од единечен билет или комбинација од 3 споени седишта ве молиме контактирајте не на телефонскиот број 078 426 536.
URL:https://operabalet.mk/event/%d1%80%d0%be%d0%bc%d0%b0%d0%bd%d1%82%d0%b8%d1%87%d0%bd%d0%b0-%d0%b1%d0%b0%d0%bb%d0%b5%d1%82%d1%81%d0%ba%d0%b0-%d0%b2%d0%b5%d1%87%d0%b5%d1%80-2-6-2021/
LOCATION:Array
CATEGORIES:балет
ATTACH;FMTTYPE=image/jpeg:https://operabalet.mk/wp-content/uploads/2021/03/burnonvil2.jpg
END:VEVENT
END:VCALENDAR