BEGIN:VCALENDAR
VERSION:2.0
PRODID:-//Национална опера и балет - ECPv4.0.7//NONSGML v1.0//EN
CALSCALE:GREGORIAN
METHOD:PUBLISH
X-WR-CALNAME:Национална опера и балет
X-ORIGINAL-URL:https://operabalet.mk
X-WR-CALDESC:Events for Национална опера и балет
BEGIN:VEVENT
DTSTART;TZID="UTC+0":20210326T190000
DTEND;TZID="UTC+0":20210326T195000
DTSTAMP:20260423T152847
CREATED:20210311T133502
LAST-MODIFIED:20210317T093856
UID:3019-1616785200-1616788200@operabalet.mk
SUMMARY:Романтична балетска вечер (26.3.2021)
DESCRIPTION:\n\nВАЖНО ИЗВЕСТУВАЊЕ!\n\n\nПоради моменталната состојба предизвикана од пандемијата со\nКовид -19 и зголемениот број на новозаразени\, ве известуваме дека балетските претстави\n„Романтична балетска вечер“\nзакaжани за 19 и 26 март СЕ ОДЛОЖУВААТ!\nЗа новите датуми\, дополнително ќе ја информираме јавноста.\n\n\nВи благодариме на разбирањето.\n\n\nСо почит\,\nНУ Национална опера и балет\n\nРомантична балетска вечер (26.3.2021) 19 часот\n\nКореограф: Аугуст Бурнонвил (Данска)\nМузика: Х. С. Паули\, Х. К. Лумбие\, В. К. Холм\, Е. Хелстед\nПоставена и режирана од Ева Клоберг и Франк Андерсен (Данска)\nСценограф: Зоран Николовски\nКостимограф: Марија Пупучевска\nАсистент на продуцентите: Саша Евтимова\nРепетитори: Саша Евтимова\, Горан Божинов\, Александра Мијлкова\, Дафина Данилоска Кочовска\n\n„Конзерваториум“\nМастер : Игор Велановски\nДве девојки : Христина Наќевска\, Симона Митовска\nМажи: Миро Митрашиновиќ\, Балаш Лашеи ( Унгарија )Ендру Кук ( Англија )Никола Орсо( Јан Кисилев)\nАнсамбл:\nДевојки: Мила Ниновска\,Илијана Данилов\,Ангела Богатинова\, Бојана Христовска\,Ивана Димкоска\, Виолета Карајанова\,Меланија Гоцевска\, Андријана Богатиноска\,Матеа Каревски\,Исидора Китановиќ\,Ева Перковска\,Мартина Димовска\,Ања Филипова\, Ева Џингова\n\n„La Ventana“\nСењорита: Марија Кичевска Шокаровска\nСењор: Бобан Ковачевски\nОгледало: Саша Евтимова\nПа де троа:Илијана Данилов\, Мартина Димкоска\, Балаж Лашеи (Унгарија)\, (Вили Карајанова)\nАнсамбл:\nЖени : Славица Мишева\, Цеце Максимоска\, Бистра Иванова\, Бранкица Јовеска\, Андријана Богатиноска\,Теодора Ставревска\nМажи: Агим Бафтии\, Мартин Саздовски\, Кристијан Јангос\, Салваторе Лаудани\, Борјан Тетиев\, Марко Арсов\n\n\nНАПОМЕНА:\n\n*Настанот ќе се одржи според протоколите предвидени со моменталната состојба предизвикана од пандемијата Ковид-19 за одржување настани\, одобрени од Комисијата за заразни болести. Задолжително е носење на заштитна маска.\nВе молиме\, почитувајте ги мерките за заштита.\n*Распоредот на онлајн билетите  е во пар од две седишта едно до друго\, на пример седиште 5 и 6\, две слободни седишта\, па 9 и 10 седиште се на продажба. Доколку имате потреба од единечен билет или комбинација од 3 споени седишта ве молиме контактирајте не на телефонскиот број 078 426 536.\n\n
URL:https://operabalet.mk/event/%d1%80%d0%be%d0%bc%d0%b0%d0%bd%d1%82%d0%b8%d1%87%d0%bd%d0%b0-%d0%b1%d0%b0%d0%bb%d0%b5%d1%82%d1%81%d0%ba%d0%b0-%d0%b2%d0%b5%d1%87%d0%b5%d1%80-26-3-2021/
LOCATION:Array
CATEGORIES:балет,концерт
ATTACH;FMTTYPE=image/jpeg:https://operabalet.mk/wp-content/uploads/2021/03/burnonvil2.jpg
END:VEVENT
END:VCALENDAR